Workbook

Sheet RAB
A1: SMK NEGERI 4 MALANG
A2: JURUSAN TEKNIK ELEKTRONIKA
A3: UNIT PELAYANAN DAN JASA MEKATRONIKA
A4: Jl. Tanimbar 22 Malang 65117 ( (0341) 353798, Fax (0341) 363099
A5: e-mail : mekatronika.smkn4malang@gmail.com
A7: RANCANGAN ANGGARAN BIAYA
A8: SMA N 4 MALANG
B11: No | C11: Nama | E11: Satuan | F11: Qty | G11: Harga Satuan | H11: Total | I11: Keterangan
B13: (A+B+C+D+E+F) | C13: SMA N 4 MALANG | E13: set | F13: 1 | H13: ='RAB PRIVATE'!G3 -> 17272674
B14: =offset('RAB PRIVATE'!A4,0,0,1,7) -> A | C14: Nama Ruang PVC 30 x 15 cm 1pax=7pcs | E14: pax | F14: 6 | G14: 1019569.2 | H14: 6117415.5
B15: =offset('RAB PRIVATE'!A10,0,0,1,7) -> B | C15: Logo Provinsi dan Sekolah W40cm | E15: pcs | F15: 2 | G15: 652410 | H15: 1304820
B16: =offset('RAB PRIVATE'!A15,0,0,1,7) -> C | C16: Logo Sekolah W80cm | E16: pcs | F16: 1 | G16: 1598235 | H16: 1598235
B17: =offset('RAB PRIVATE'!A20,0,0,1,7) -> D | C17: Huruf Timbul H30cm pax=4huruf | E17: pax | F17: 2.75 | G17: 2104597.7 | H17: 5787643.7
B18: =offset('RAB PRIVATE'!A24,0,0,1,7) -> E | C18: Neon Text "Merdeka Belajar" | E18: pax | F18: 1 | G18: 1221828 | H18: 1221828
B19: =offset('RAB PRIVATE'!A29,0,0,1,7) -> F | C19: Neon Text "Sekolah Penggerak" | E19: pax | F19: 1 | G19: 1242732 | H19: 1242732
F26: Malang,…………………………….
F27: Anggoro Dwi Nur R., S.Pd
F28: NIP.

Sheet TLP
A1: SMK NEGERI 4 MALANG
A2: JURUSAN TEKNIK ELEKTRONIKA
A3: UNIT PELAYANAN DAN JASA MEKATRONIKA
A4: Jl. Tanimbar 22 Malang 65117 ( (0341) 353798, Fax (0341) 363099
A5: Website : www.smkn4malang.sch.id | e-mail : mail@ smkn4malang.sch.id
A7: TIME LINE PROJECT
A8: Alga Farm
B10: =IFERROR(__xludf.DUMMYFUNCTION("IMPORTRANGE(""1n6XQOgY_D88NboVKmK2lEdnPA9rUo-5REQDKA7kfvEU"",""TLP PRIVATE!A2:AZ15"")"),"#") -> # | C10: =IFERROR(__xludf.DUMMYFUNCTION("""COMPUTED_VALUE"""),"Kegiatan") -> Kegiatan | F10: =IFERROR(__xludf.DUMMYFUNCTION("""COMPUTED_VALUE"""),"PIC") -> PIC | G10: =IFERROR(__xludf.DUMMYFUNCTION("""COMPUTED_VALUE"""),"Durasi (H)") -> Durasi (H) | J10: =IFERROR(__xludf.DUMMYFUNCTION("""COMPUTED_VALUE"""),"Mulai") -> Mulai | K10: =IFERROR(__xludf.DUMMYFUNCTION("""COMPUTED_VALUE"""),"Selesai") -> Selesai | L10: =IFERROR(__xludf.DUMMYFUNCTION("""COMPUTED_VALUE"""),44613.0) -> 44613 | S10: =IFERROR(__xludf.DUMMYFUNCTION("""COMPUTED_VALUE"""),44620.0) -> 44620 | Z10: =IFERROR(__xludf.DUMMYFUNCTION("""COMPUTED_VALUE"""),44627.0) -> 44627 | AG10: =IFERROR(__xludf.DUMMYFUNCTION("""COMPUTED_VALUE"""),44634.0) -> 44634 | AN10: =IFERROR(__xludf.DUMMYFUNCTION("""COMPUTED_VALUE"""),44641.0) -> 44641 | AU10: =IFERROR(__xludf.DUMMYFUNCTION("""COMPUTED_VALUE"""),44648.0) -> 44648
L11: =IFERROR(__xludf.DUMMYFUNCTION("""COMPUTED_VALUE"""),44613.0) -> 44613 | M11: =IFERROR(__xludf.DUMMYFUNCTION("""COMPUTED_VALUE"""),44614.0) -> 44614 | N11: =IFERROR(__xludf.DUMMYFUNCTION("""COMPUTED_VALUE"""),44615.0) -> 44615 | O11: =IFERROR(__xludf.DUMMYFUNCTION("""COMPUTED_VALUE"""),44616.0) -> 44616 | P11: =IFERROR(__xludf.DUMMYFUNCTION("""COMPUTED_VALUE"""),44617.0) -> 44617 | Q11: =IFERROR(__xludf.DUMMYFUNCTION("""COMPUTED_VALUE"""),44618.0) -> 44618 | R11: =IFERROR(__xludf.DUMMYFUNCTION("""COMPUTED_VALUE"""),44619.0) -> 44619 | S11: =IFERROR(__xludf.DUMMYFUNCTION("""COMPUTED_VALUE"""),44620.0) -> 44620 | T11: =IFERROR(__xludf.DUMMYFUNCTION("""COMPUTED_VALUE"""),44621.0) -> 44621 | U11: =IFERROR(__xludf.DUMMYFUNCTION("""COMPUTED_VALUE"""),44622.0) -> 44622 | V11: =IFERROR(__xludf.DUMMYFUNCTION("""COMPUTED_VALUE"""),44623.0) -> 44623 | W11: =IFERROR(__xludf.DUMMYFUNCTION("""COMPUTED_VALUE"""),44624.0) -> 44624 | X11: =IFERROR(__xludf.DUMMYFUNCTION("""COMPUTED_VALUE"""),44625.0) -> 44625 | Y11: =IFERROR(__xludf.DUMMYFUNCTION("""COMPUTED_VALUE"""),44626.0) -> 44626 | Z11: =IFERROR(__xludf.DUMMYFUNCTION("""COMPUTED_VALUE"""),44627.0) -> 44627 | AA11: =IFERROR(__xludf.DUMMYFUNCTION("""COMPUTED_VALUE"""),44628.0) -> 44628 | AB11: =IFERROR(__xludf.DUMMYFUNCTION("""COMPUTED_VALUE"""),44629.0) -> 44629 | AC11: =IFERROR(__xludf.DUMMYFUNCTION("""COMPUTED_VALUE"""),44630.0) -> 44630 | AD11: =IFERROR(__xludf.DUMMYFUNCTION("""COMPUTED_VALUE"""),44631.0) -> 44631 | AE11: =IFERROR(__xludf.DUMMYFUNCTION("""COMPUTED_VALUE"""),44632.0) -> 44632 | AF11: =IFERROR(__xludf.DUMMYFUNCTION("""COMPUTED_VALUE"""),44633.0) -> 44633 | AG11: =IFERROR(__xludf.DUMMYFUNCTION("""COMPUTED_VALUE"""),44634.0) -> 44634 | AH11: =IFERROR(__xludf.DUMMYFUNCTION("""COMPUTED_VALUE"""),44635.0) -> 44635 | AI11: =IFERROR(__xludf.DUMMYFUNCTION("""COMPUTED_VALUE"""),44636.0) -> 44636 | AJ11: =IFERROR(__xludf.DUMMYFUNCTION("""COMPUTED_VALUE"""),44637.0) -> 44637 | AK11: =IFERROR(__xludf.DUMMYFUNCTION("""COMPUTED_VALUE"""),44638.0) -> 44638 | AL11: =IFERROR(__xludf.DUMMYFUNCTION("""COMPUTED_VALUE"""),44639.0) -> 44639 | AM11: =IFERROR(__xludf.DUMMYFUNCTION("""COMPUTED_VALUE"""),44640.0) -> 44640 | AN11: =IFERROR(__xludf.DUMMYFUNCTION("""COMPUTED_VALUE"""),44641.0) -> 44641 | AO11: =IFERROR(__xludf.DUMMYFUNCTION("""COMPUTED_VALUE"""),44642.0) -> 44642 | AP11: =IFERROR(__xludf.DUMMYFUNCTION("""COMPUTED_VALUE"""),44643.0) -> 44643 | AQ11: =IFERROR(__xludf.DUMMYFUNCTION("""COMPUTED_VALUE"""),44644.0) -> 44644 | AR11: =IFERROR(__xludf.DUMMYFUNCTION("""COMPUTED_VALUE"""),44645.0) -> 44645 | AS11: =IFERROR(__xludf.DUMMYFUNCTION("""COMPUTED_VALUE"""),44646.0) -> 44646 | AT11: =IFERROR(__xludf.DUMMYFUNCTION("""COMPUTED_VALUE"""),44647.0) -> 44647 | AU11: =IFERROR(__xludf.DUMMYFUNCTION("""COMPUTED_VALUE"""),44648.0) -> 44648 | AV11: =IFERROR(__xludf.DUMMYFUNCTION("""COMPUTED_VALUE"""),44649.0) -> 44649 | AW11: =IFERROR(__xludf.DUMMYFUNCTION("""COMPUTED_VALUE"""),44650.0) -> 44650 | AX11: =IFERROR(__xludf.DUMMYFUNCTION("""COMPUTED_VALUE"""),44651.0) -> 44651 | AY11: =IFERROR(__xludf.DUMMYFUNCTION("""COMPUTED_VALUE"""),44652.0) -> 44652 | AZ11: =IFERROR(__xludf.DUMMYFUNCTION("""COMPUTED_VALUE"""),44653.0) -> 44653 | BA11: =IFERROR(__xludf.DUMMYFUNCTION("""COMPUTED_VALUE"""),44654.0) -> 44654
H12: =IFERROR(__xludf.DUMMYFUNCTION("""COMPUTED_VALUE"""),"Hari Kerja") -> Hari Kerja | I12: =IFERROR(__xludf.DUMMYFUNCTION("""COMPUTED_VALUE"""),"Akhir pekan") -> Akhir pekan | L12: =IFERROR(__xludf.DUMMYFUNCTION("""COMPUTED_VALUE"""),"Mon") -> Mon | M12: =IFERROR(__xludf.DUMMYFUNCTION("""COMPUTED_VALUE"""),"Tue") -> Tue | N12: =IFERROR(__xludf.DUMMYFUNCTION("""COMPUTED_VALUE"""),"Wed") -> Wed | O12: =IFERROR(__xludf.DUMMYFUNCTION("""COMPUTED_VALUE"""),"Thu") -> Thu | P12: =IFERROR(__xludf.DUMMYFUNCTION("""COMPUTED_VALUE"""),"Fri") -> Fri | Q12: =IFERROR(__xludf.DUMMYFUNCTION("""COMPUTED_VALUE"""),"Sat") -> Sat | R12: =IFERROR(__xludf.DUMMYFUNCTION("""COMPUTED_VALUE"""),"Sun") -> Sun | S12: =IFERROR(__xludf.DUMMYFUNCTION("""COMPUTED_VALUE"""),"Mon") -> Mon | T12: =IFERROR(__xludf.DUMMYFUNCTION("""COMPUTED_VALUE"""),"Tue") -> Tue | U12: =IFERROR(__xludf.DUMMYFUNCTION("""COMPUTED_VALUE"""),"Wed") -> Wed | V12: =IFERROR(__xludf.DUMMYFUNCTION("""COMPUTED_VALUE"""),"Thu") -> Thu | W12: =IFERROR(__xludf.DUMMYFUNCTION("""COMPUTED_VALUE"""),"Fri") -> Fri | X12: =IFERROR(__xludf.DUMMYFUNCTION("""COMPUTED_VALUE"""),"Sat") -> Sat | Y12: =IFERROR(__xludf.DUMMYFUNCTION("""COMPUTED_VALUE"""),"Sun") -> Sun | Z12: =IFERROR(__xludf.DUMMYFUNCTION("""COMPUTED_VALUE"""),"Mon") -> Mon | AA12: =IFERROR(__xludf.DUMMYFUNCTION("""COMPUTED_VALUE"""),"Tue") -> Tue | AB12: =IFERROR(__xludf.DUMMYFUNCTION("""COMPUTED_VALUE"""),"Wed") -> Wed | AC12: =IFERROR(__xludf.DUMMYFUNCTION("""COMPUTED_VALUE"""),"Thu") -> Thu | AD12: =IFERROR(__xludf.DUMMYFUNCTION("""COMPUTED_VALUE"""),"Fri") -> Fri | AE12: =IFERROR(__xludf.DUMMYFUNCTION("""COMPUTED_VALUE"""),"Sat") -> Sat | AF12: =IFERROR(__xludf.DUMMYFUNCTION("""COMPUTED_VALUE"""),"Sun") -> Sun | AG12: =IFERROR(__xludf.DUMMYFUNCTION("""COMPUTED_VALUE"""),"Mon") -> Mon | AH12: =IFERROR(__xludf.DUMMYFUNCTION("""COMPUTED_VALUE"""),"Tue") -> Tue | AI12: =IFERROR(__xludf.DUMMYFUNCTION("""COMPUTED_VALUE"""),"Wed") -> Wed | AJ12: =IFERROR(__xludf.DUMMYFUNCTION("""COMPUTED_VALUE"""),"Thu") -> Thu | AK12: =IFERROR(__xludf.DUMMYFUNCTION("""COMPUTED_VALUE"""),"Fri") -> Fri | AL12: =IFERROR(__xludf.DUMMYFUNCTION("""COMPUTED_VALUE"""),"Sat") -> Sat | AM12: =IFERROR(__xludf.DUMMYFUNCTION("""COMPUTED_VALUE"""),"Sun") -> Sun | AN12: =IFERROR(__xludf.DUMMYFUNCTION("""COMPUTED_VALUE"""),"Mon") -> Mon | AO12: =IFERROR(__xludf.DUMMYFUNCTION("""COMPUTED_VALUE"""),"Tue") -> Tue | AP12: =IFERROR(__xludf.DUMMYFUNCTION("""COMPUTED_VALUE"""),"Wed") -> Wed | AQ12: =IFERROR(__xludf.DUMMYFUNCTION("""COMPUTED_VALUE"""),"Thu") -> Thu | AR12: =IFERROR(__xludf.DUMMYFUNCTION("""COMPUTED_VALUE"""),"Fri") -> Fri | AS12: =IFERROR(__xludf.DUMMYFUNCTION("""COMPUTED_VALUE"""),"Sat") -> Sat | AT12: =IFERROR(__xludf.DUMMYFUNCTION("""COMPUTED_VALUE"""),"Sun") -> Sun | AU12: =IFERROR(__xludf.DUMMYFUNCTION("""COMPUTED_VALUE"""),"Mon") -> Mon | AV12: =IFERROR(__xludf.DUMMYFUNCTION("""COMPUTED_VALUE"""),"Tue") -> Tue | AW12: =IFERROR(__xludf.DUMMYFUNCTION("""COMPUTED_VALUE"""),"Wed") -> Wed | AX12: =IFERROR(__xludf.DUMMYFUNCTION("""COMPUTED_VALUE"""),"Thu") -> Thu | AY12: =IFERROR(__xludf.DUMMYFUNCTION("""COMPUTED_VALUE"""),"Fri") -> Fri | AZ12: =IFERROR(__xludf.DUMMYFUNCTION("""COMPUTED_VALUE"""),"Sat") -> Sat | BA12: =IFERROR(__xludf.DUMMYFUNCTION("""COMPUTED_VALUE"""),"Sun") -> Sun
B14: =IFERROR(__xludf.DUMMYFUNCTION("""COMPUTED_VALUE"""),1.0) -> 1 | F14: =IFERROR(__xludf.DUMMYFUNCTION("""COMPUTED_VALUE"""),1.0) -> 1 | G14: =IFERROR(__xludf.DUMMYFUNCTION("""COMPUTED_VALUE"""),15.0) -> 15 | H14: =IFERROR(__xludf.DUMMYFUNCTION("""COMPUTED_VALUE"""),TRUE) -> TRUE | I14: =IFERROR(__xludf.DUMMYFUNCTION("""COMPUTED_VALUE"""),FALSE) -> FALSE | J14: =IFERROR(__xludf.DUMMYFUNCTION("""COMPUTED_VALUE"""),44613.0) -> 44613 | K14: =IFERROR(__xludf.DUMMYFUNCTION("""COMPUTED_VALUE"""),44647.0) -> 44647 | L14: =IFERROR(__xludf.DUMMYFUNCTION("""COMPUTED_VALUE"""),1.0) -> 1 | M14: =IFERROR(__xludf.DUMMYFUNCTION("""COMPUTED_VALUE"""),1.0) -> 1 | N14: =IFERROR(__xludf.DUMMYFUNCTION("""COMPUTED_VALUE"""),1.0) -> 1 | O14: =IFERROR(__xludf.DUMMYFUNCTION("""COMPUTED_VALUE"""),1.0) -> 1 | P14: =IFERROR(__xludf.DUMMYFUNCTION("""COMPUTED_VALUE"""),1.0) -> 1 | Q14: =IFERROR(__xludf.DUMMYFUNCTION("""COMPUTED_VALUE"""),0.0) -> 0 | R14: =IFERROR(__xludf.DUMMYFUNCTION("""COMPUTED_VALUE"""),0.0) -> 0 | S14: =IFERROR(__xludf.DUMMYFUNCTION("""COMPUTED_VALUE"""),1.0) -> 1 | T14: =IFERROR(__xludf.DUMMYFUNCTION("""COMPUTED_VALUE"""),1.0) -> 1 | U14: =IFERROR(__xludf.DUMMYFUNCTION("""COMPUTED_VALUE"""),1.0) -> 1 | V14: =IFERROR(__xludf.DUMMYFUNCTION("""COMPUTED_VALUE"""),1.0) -> 1 | W14: =IFERROR(__xludf.DUMMYFUNCTION("""COMPUTED_VALUE"""),1.0) -> 1 | X14: =IFERROR(__xludf.DUMMYFUNCTION("""COMPUTED_VALUE"""),0.0) -> 0 | Y14: =IFERROR(__xludf.DUMMYFUNCTION("""COMPUTED_VALUE"""),0.0) -> 0 | Z14: =IFERROR(__xludf.DUMMYFUNCTION("""COMPUTED_VALUE"""),1.0) -> 1 | AA14: =IFERROR(__xludf.DUMMYFUNCTION("""COMPUTED_VALUE"""),1.0) -> 1 | AB14: =IFERROR(__xludf.DUMMYFUNCTION("""COMPUTED_VALUE"""),1.0) -> 1 | AC14: =IFERROR(__xludf.DUMMYFUNCTION("""COMPUTED_VALUE"""),1.0) -> 1 | AD14: =IFERROR(__xludf.DUMMYFUNCTION("""COMPUTED_VALUE"""),1.0) -> 1 | AE14: =IFERROR(__xludf.DUMMYFUNCTION("""COMPUTED_VALUE"""),0.0) -> 0 | AF14: =IFERROR(__xludf.DUMMYFUNCTION("""COMPUTED_VALUE"""),0.0) -> 0 | AG14: =IFERROR(__xludf.DUMMYFUNCTION("""COMPUTED_VALUE"""),1.0) -> 1 | AH14: =IFERROR(__xludf.DUMMYFUNCTION("""COMPUTED_VALUE"""),1.0) -> 1 | AI14: =IFERROR(__xludf.DUMMYFUNCTION("""COMPUTED_VALUE"""),1.0) -> 1 | AJ14: =IFERROR(__xludf.DUMMYFUNCTION("""COMPUTED_VALUE"""),1.0) -> 1 | AK14: =IFERROR(__xludf.DUMMYFUNCTION("""COMPUTED_VALUE"""),1.0) -> 1 | AL14: =IFERROR(__xludf.DUMMYFUNCTION("""COMPUTED_VALUE"""),0.0) -> 0 | AM14: =IFERROR(__xludf.DUMMYFUNCTION("""COMPUTED_VALUE"""),0.0) -> 0 | AN14: =IFERROR(__xludf.DUMMYFUNCTION("""COMPUTED_VALUE"""),1.0) -> 1 | AO14: =IFERROR(__xludf.DUMMYFUNCTION("""COMPUTED_VALUE"""),1.0) -> 1 | AP14: =IFERROR(__xludf.DUMMYFUNCTION("""COMPUTED_VALUE"""),1.0) -> 1 | AQ14: =IFERROR(__xludf.DUMMYFUNCTION("""COMPUTED_VALUE"""),1.0) -> 1 | AR14: =IFERROR(__xludf.DUMMYFUNCTION("""COMPUTED_VALUE"""),1.0) -> 1 | AS14: =IFERROR(__xludf.DUMMYFUNCTION("""COMPUTED_VALUE"""),0.0) -> 0 | AT14: =IFERROR(__xludf.DUMMYFUNCTION("""COMPUTED_VALUE"""),0.0) -> 0 | AU14: =IFERROR(__xludf.DUMMYFUNCTION("""COMPUTED_VALUE"""),0.0) -> 0 | AV14: =IFERROR(__xludf.DUMMYFUNCTION("""COMPUTED_VALUE"""),0.0) -> 0 | AW14: =IFERROR(__xludf.DUMMYFUNCTION("""COMPUTED_VALUE"""),0.0) -> 0 | AX14: =IFERROR(__xludf.DUMMYFUNCTION("""COMPUTED_VALUE"""),0.0) -> 0 | AY14: =IFERROR(__xludf.DUMMYFUNCTION("""COMPUTED_VALUE"""),0.0) -> 0 | AZ14: =IFERROR(__xludf.DUMMYFUNCTION("""COMPUTED_VALUE"""),0.0) -> 0 | BA14: =IFERROR(__xludf.DUMMYFUNCTION("""COMPUTED_VALUE"""),0.0) -> 0
C15: =IFERROR(__xludf.DUMMYFUNCTION("""COMPUTED_VALUE"""),1.1) -> 1.1 | D15: =IFERROR(__xludf.DUMMYFUNCTION("""COMPUTED_VALUE"""),"Pembelian Elektronik kendali") -> Pembelian Elektronik kendali | F15: =IFERROR(__xludf.DUMMYFUNCTION("""COMPUTED_VALUE"""),1.0) -> 1 | G15: =IFERROR(__xludf.DUMMYFUNCTION("""COMPUTED_VALUE"""),10.0) -> 10 | H15: =IFERROR(__xludf.DUMMYFUNCTION("""COMPUTED_VALUE"""),TRUE) -> TRUE | I15: =IFERROR(__xludf.DUMMYFUNCTION("""COMPUTED_VALUE"""),FALSE) -> FALSE | J15: =IFERROR(__xludf.DUMMYFUNCTION("""COMPUTED_VALUE"""),44613.0) -> 44613 | K15: =IFERROR(__xludf.DUMMYFUNCTION("""COMPUTED_VALUE"""),44626.0) -> 44626 | L15: =IFERROR(__xludf.DUMMYFUNCTION("""COMPUTED_VALUE"""),1.0) -> 1 | M15: =IFERROR(__xludf.DUMMYFUNCTION("""COMPUTED_VALUE"""),1.0) -> 1 | N15: =IFERROR(__xludf.DUMMYFUNCTION("""COMPUTED_VALUE"""),1.0) -> 1 | O15: =IFERROR(__xludf.DUMMYFUNCTION("""COMPUTED_VALUE"""),1.0) -> 1 | P15: =IFERROR(__xludf.DUMMYFUNCTION("""COMPUTED_VALUE"""),1.0) -> 1 | Q15: =IFERROR(__xludf.DUMMYFUNCTION("""COMPUTED_VALUE"""),0.0) -> 0 | R15: =IFERROR(__xludf.DUMMYFUNCTION("""COMPUTED_VALUE"""),0.0) -> 0 | S15: =IFERROR(__xludf.DUMMYFUNCTION("""COMPUTED_VALUE"""),1.0) -> 1 | T15: =IFERROR(__xludf.DUMMYFUNCTION("""COMPUTED_VALUE"""),1.0) -> 1 | U15: =IFERROR(__xludf.DUMMYFUNCTION("""COMPUTED_VALUE"""),1.0) -> 1 | V15: =IFERROR(__xludf.DUMMYFUNCTION("""COMPUTED_VALUE"""),1.0) -> 1 | W15: =IFERROR(__xludf.DUMMYFUNCTION("""COMPUTED_VALUE"""),1.0) -> 1 | X15: =IFERROR(__xludf.DUMMYFUNCTION("""COMPUTED_VALUE"""),0.0) -> 0 | Y15: =IFERROR(__xludf.DUMMYFUNCTION("""COMPUTED_VALUE"""),0.0) -> 0 | Z15: =IFERROR(__xludf.DUMMYFUNCTION("""COMPUTED_VALUE"""),0.0) -> 0 | AA15: =IFERROR(__xludf.DUMMYFUNCTION("""COMPUTED_VALUE"""),0.0) -> 0 | AB15: =IFERROR(__xludf.DUMMYFUNCTION("""COMPUTED_VALUE"""),0.0) -> 0 | AC15: =IFERROR(__xludf.DUMMYFUNCTION("""COMPUTED_VALUE"""),0.0) -> 0 | AD15: =IFERROR(__xludf.DUMMYFUNCTION("""COMPUTED_VALUE"""),0.0) -> 0 | AE15: =IFERROR(__xludf.DUMMYFUNCTION("""COMPUTED_VALUE"""),0.0) -> 0 | ... BA15: =IFERROR(__xludf.DUMMYFUNCTION("""COMPUTED_VALUE"""),0.0) -> 0
C16: =IFERROR(__xludf.DUMMYFUNCTION("""COMPUTED_VALUE"""),1.2) -> 1.2 | D16: =IFERROR(__xludf.DUMMYFUNCTION("""COMPUTED_VALUE"""),"Pembuatan Elektronik Kendali") -> Pembuatan Elektronik Kendali | F16: =IFERROR(__xludf.DUMMYFUNCTION("""COMPUTED_VALUE"""),1.0) -> 1 | G16: =IFERROR(__xludf.DUMMYFUNCTION("""COMPUTED_VALUE"""),10.0) -> 10 | H16: =IFERROR(__xludf.DUMMYFUNCTION("""COMPUTED_VALUE"""),TRUE) -> TRUE | I16: =IFERROR(__xludf.DUMMYFUNCTION("""COMPUTED_VALUE"""),FALSE) -> FALSE | J16: =IFERROR(__xludf.DUMMYFUNCTION("""COMPUTED_VALUE"""),44627.0) -> 44627 | K16: =IFERROR(__xludf.DUMMYFUNCTION("""COMPUTED_VALUE"""),44640.0) -> 44640 | L16: =IFERROR(__xludf.DUMMYFUNCTION("""COMPUTED_VALUE"""),0.0) -> 0 | M16: =IFERROR(__xludf.DUMMYFUNCTION("""COMPUTED_VALUE"""),0.0) -> 0 | N16: =IFERROR(__xludf.DUMMYFUNCTION("""COMPUTED_VALUE"""),0.0) -> 0 | O16: =IFERROR(__xludf.DUMMYFUNCTION("""COMPUTED_VALUE"""),0.0) -> 0 | P16: =IFERROR(__xludf.DUMMYFUNCTION("""COMPUTED_VALUE"""),0.0) -> 0 | Q16: =IFERROR(__xludf.DUMMYFUNCTION("""COMPUTED_VALUE"""),0.0) -> 0 | R16: =IFERROR(__xludf.DUMMYFUNCTION("""COMPUTED_VALUE"""),0.0) -> 0 | S16: =IFERROR(__xludf.DUMMYFUNCTION("""COMPUTED_VALUE"""),0.0) -> 0 | ... Y16: =IFERROR(__xludf.DUMMYFUNCTION("""COMPUTED_VALUE"""),0.0) -> 0 | Z16: =IFERROR(__xludf.DUMMYFUNCTION("""COMPUTED_VALUE"""),1.0) -> 1 | AA16: =IFERROR(__xludf.DUMMYFUNCTION("""COMPUTED_VALUE"""),1.0) -> 1 | AB16: =IFERROR(__xludf.DUMMYFUNCTION("""COMPUTED_VALUE"""),1.0) -> 1 | AC16: =IFERROR(__xludf.DUMMYFUNCTION("""COMPUTED_VALUE"""),1.0) -> 1 | AD16: =IFERROR(__xludf.DUMMYFUNCTION("""COMPUTED_VALUE"""),1.0) -> 1 | AE16: =IFERROR(__xludf.DUMMYFUNCTION("""COMPUTED_VALUE"""),0.0) -> 0 | AF16: =IFERROR(__xludf.DUMMYFUNCTION("""COMPUTED_VALUE"""),0.0) -> 0 | AG16: =IFERROR(__xludf.DUMMYFUNCTION("""COMPUTED_VALUE"""),1.0) -> 1 | AH16: =IFERROR(__xludf.DUMMYFUNCTION("""COMPUTED_VALUE"""),1.0) -> 1 | AI16: =IFERROR(__xludf.DUMMYFUNCTION("""COMPUTED_VALUE"""),1.0) -> 1 | AJ16: =IFERROR(__xludf.DUMMYFUNCTION("""COMPUTED_VALUE"""),1.0) -> 1 | AK16: =IFERROR(__xludf.DUMMYFUNCTION("""COMPUTED_VALUE"""),1.0) -> 1 | AL16: =IFERROR(__xludf.DUMMYFUNCTION("""COMPUTED_VALUE"""),0.0) -> 0 | AM16: =IFERROR(__xludf.DUMMYFUNCTION("""COMPUTED_VALUE"""),0.0) -> 0 | AN16: =IFERROR(__xludf.DUMMYFUNCTION("""COMPUTED_VALUE"""),0.0) -> 0 | AO16: =IFERROR(__xludf.DUMMYFUNCTION("""COMPUTED_VALUE"""),0.0) -> 0 | AP16: =IFERROR(__xludf.DUMMYFUNCTION("""COMPUTED_VALUE"""),0.0) -> 0 | AQ16: =IFERROR(__xludf.DUMMYFUNCTION("""COMPUTED_VALUE"""),0.0) -> 0 | AR16: =IFERROR(__xludf.DUMMYFUNCTION("""COMPUTED_VALUE"""),0.0) -> 0 | AS16: =IFERROR(__xludf.DUMMYFUNCTION("""COMPUTED_VALUE"""),0.0) -> 0 | ... BA16: =IFERROR(__xludf.DUMMYFUNCTION("""COMPUTED_VALUE"""),0.0) -> 0
C17: =IFERROR(__xludf.DUMMYFUNCTION("""COMPUTED_VALUE"""),1.3) -> 1.3 | D17: =IFERROR(__xludf.DUMMYFUNCTION("""COMPUTED_VALUE"""),"Perakitan Elektronik Panel") -> Perakitan Elektronik Panel | F17: =IFERROR(__xludf.DUMMYFUNCTION("""COMPUTED_VALUE"""),1.0) -> 1 | G17: =IFERROR(__xludf.DUMMYFUNCTION("""COMPUTED_VALUE"""),5.0) -> 5 | H17: =IFERROR(__xludf.DUMMYFUNCTION("""COMPUTED_VALUE"""),TRUE) -> TRUE | I17: =IFERROR(__xludf.DUMMYFUNCTION("""COMPUTED_VALUE"""),FALSE) -> FALSE | J17: =IFERROR(__xludf.DUMMYFUNCTION("""COMPUTED_VALUE"""),44641.0) -> 44641 | K17: =IFERROR(__xludf.DUMMYFUNCTION("""COMPUTED_VALUE"""),44647.0) -> 44647 | L17: =IFERROR(__xludf.DUMMYFUNCTION("""COMPUTED_VALUE"""),0.0) -> 0 | M17: =IFERROR(__xludf.DUMMYFUNCTION("""COMPUTED_VALUE"""),0.0) -> 0 | N17: =IFERROR(__xludf.DUMMYFUNCTION("""COMPUTED_VALUE"""),0.0) -> 0 | O17: =IFERROR(__xludf.DUMMYFUNCTION("""COMPUTED_VALUE"""),0.0) -> 0 | P17: =IFERROR(__xludf.DUMMYFUNCTION("""COMPUTED_VALUE"""),0.0) -> 0 | Q17: =IFERROR(__xludf.DUMMYFUNCTION("""COMPUTED_VALUE"""),0.0) -> 0 | R17: =IFERROR(__xludf.DUMMYFUNCTION("""COMPUTED_VALUE"""),0.0) -> 0 | S17: =IFERROR(__xludf.DUMMYFUNCTION("""COMPUTED_VALUE"""),0.0) -> 0 | ... AM17: =IFERROR(__xludf.DUMMYFUNCTION("""COMPUTED_VALUE"""),0.0) -> 0 | AN17: =IFERROR(__xludf.DUMMYFUNCTION("""COMPUTED_VALUE"""),1.0) -> 1 | AO17: =IFERROR(__xludf.DUMMYFUNCTION("""COMPUTED_VALUE"""),1.0) -> 1 | AP17: =IFERROR(__xludf.DUMMYFUNCTION("""COMPUTED_VALUE"""),1.0) -> 1 | AQ17: =IFERROR(__xludf.DUMMYFUNCTION("""COMPUTED_VALUE"""),1.0) -> 1 | AR17: =IFERROR(__xludf.DUMMYFUNCTION("""COMPUTED_VALUE"""),1.0) -> 1 | AS17: =IFERROR(__xludf.DUMMYFUNCTION("""COMPUTED_VALUE"""),0.0) -> 0 | AT17: =IFERROR(__xludf.DUMMYFUNCTION("""COMPUTED_VALUE"""),0.0) -> 0 | AU17: =IFERROR(__xludf.DUMMYFUNCTION("""COMPUTED_VALUE"""),0.0) -> 0 | AV17: =IFERROR(__xludf.DUMMYFUNCTION("""COMPUTED_VALUE"""),0.0) -> 0 | AW17: =IFERROR(__xludf.DUMMYFUNCTION("""COMPUTED_VALUE"""),0.0) -> 0 | AX17: =IFERROR(__xludf.DUMMYFUNCTION("""COMPUTED_VALUE"""),0.0) -> 0 | AY17: =IFERROR(__xludf.DUMMYFUNCTION("""COMPUTED_VALUE"""),0.0) -> 0 | AZ17: =IFERROR(__xludf.DUMMYFUNCTION("""COMPUTED_VALUE"""),0.0) -> 0 | BA17: =IFERROR(__xludf.DUMMYFUNCTION("""COMPUTED_VALUE"""),0.0) -> 0
B18: =IFERROR(__xludf.DUMMYFUNCTION("""COMPUTED_VALUE"""),2.0) -> 2 | F18: =IFERROR(__xludf.DUMMYFUNCTION("""COMPUTED_VALUE"""),1.0) -> 1 | G18: =IFERROR(__xludf.DUMMYFUNCTION("""COMPUTED_VALUE"""),15.0) -> 15 | H18: =IFERROR(__xludf.DUMMYFUNCTION("""COMPUTED_VALUE"""),TRUE) -> TRUE | I18: =IFERROR(__xludf.DUMMYFUNCTION("""COMPUTED_VALUE"""),FALSE) -> FALSE | J18: =IFERROR(__xludf.DUMMYFUNCTION("""COMPUTED_VALUE"""),44613.0) -> 44613 | K18: =IFERROR(__xludf.DUMMYFUNCTION("""COMPUTED_VALUE"""),44647.0) -> 44647 | L18: =IFERROR(__xludf.DUMMYFUNCTION("""COMPUTED_VALUE"""),1.0) -> 1 | M18: =IFERROR(__xludf.DUMMYFUNCTION("""COMPUTED_VALUE"""),1.0) -> 1 | N18: =IFERROR(__xludf.DUMMYFUNCTION("""COMPUTED_VALUE"""),1.0) -> 1 | O18: =IFERROR(__xludf.DUMMYFUNCTION("""COMPUTED_VALUE"""),1.0) -> 1 | P18: =IFERROR(__xludf.DUMMYFUNCTION("""COMPUTED_VALUE"""),1.0) -> 1 | Q18: =IFERROR(__xludf.DUMMYFUNCTION("""COMPUTED_VALUE"""),0.0) -> 0 | R18: =IFERROR(__xludf.DUMMYFUNCTION("""COMPUTED_VALUE"""),0.0) -> 0 | S18: =IFERROR(__xludf.DUMMYFUNCTION("""COMPUTED_VALUE"""),1.0) -> 1 | T18: =IFERROR(__xludf.DUMMYFUNCTION("""COMPUTED_VALUE"""),1.0) -> 1 | U18: =IFERROR(__xludf.DUMMYFUNCTION("""COMPUTED_VALUE"""),1.0) -> 1 | V18: =IFERROR(__xludf.DUMMYFUNCTION("""COMPUTED_VALUE"""),1.0) -> 1 | W18: =IFERROR(__xludf.DUMMYFUNCTION("""COMPUTED_VALUE"""),1.0) -> 1 | X18: =IFERROR(__xludf.DUMMYFUNCTION("""COMPUTED_VALUE"""),0.0) -> 0 | Y18: =IFERROR(__xludf.DUMMYFUNCTION("""COMPUTED_VALUE"""),0.0) -> 0 | Z18: =IFERROR(__xludf.DUMMYFUNCTION("""COMPUTED_VALUE"""),1.0) -> 1 | AA18: =IFERROR(__xludf.DUMMYFUNCTION("""COMPUTED_VALUE"""),1.0) -> 1 | AB18: =IFERROR(__xludf.DUMMYFUNCTION("""COMPUTED_VALUE"""),1.0) -> 1 | AC18: =IFERROR(__xludf.DUMMYFUNCTION("""COMPUTED_VALUE"""),1.0) -> 1 | AD18: =IFERROR(__xludf.DUMMYFUNCTION("""COMPUTED_VALUE"""),1.0) -> 1 | AE18: =IFERROR(__xludf.DUMMYFUNCTION("""COMPUTED_VALUE"""),0.0) -> 0 | AF18: =IFERROR(__xludf.DUMMYFUNCTION("""COMPUTED_VALUE"""),0.0) -> 0 | AG18: =IFERROR(__xludf.DUMMYFUNCTION("""COMPUTED_VALUE"""),1.0) -> 1 | AH18: =IFERROR(__xludf.DUMMYFUNCTION("""COMPUTED_VALUE"""),1.0) -> 1 | AI18: =IFERROR(__xludf.DUMMYFUNCTION("""COMPUTED_VALUE"""),1.0) -> 1 | AJ18: =IFERROR(__xludf.DUMMYFUNCTION("""COMPUTED_VALUE"""),1.0) -> 1 | AK18: =IFERROR(__xludf.DUMMYFUNCTION("""COMPUTED_VALUE"""),1.0) -> 1 | AL18: =IFERROR(__xludf.DUMMYFUNCTION("""COMPUTED_VALUE"""),0.0) -> 0 | AM18: =IFERROR(__xludf.DUMMYFUNCTION("""COMPUTED_VALUE"""),0.0) -> 0 | AN18: =IFERROR(__xludf.DUMMYFUNCTION("""COMPUTED_VALUE"""),1.0) -> 1 | AO18: =IFERROR(__xludf.DUMMYFUNCTION("""COMPUTED_VALUE"""),1.0) -> 1 | AP18: =IFERROR(__xludf.DUMMYFUNCTION("""COMPUTED_VALUE"""),1.0) -> 1 | AQ18: =IFERROR(__xludf.DUMMYFUNCTION("""COMPUTED_VALUE"""),1.0) -> 1 | AR18: =IFERROR(__xludf.DUMMYFUNCTION("""COMPUTED_VALUE"""),1.0) -> 1 | AS18: =IFERROR(__xludf.DUMMYFUNCTION("""COMPUTED_VALUE"""),0.0) -> 0 | AT18: =IFERROR(__xludf.DUMMYFUNCTION("""COMPUTED_VALUE"""),0.0) -> 0 | AU18: =IFERROR(__xludf.DUMMYFUNCTION("""COMPUTED_VALUE"""),0.0) -> 0 | AV18: =IFERROR(__xludf.DUMMYFUNCTION("""COMPUTED_VALUE"""),0.0) -> 0 | AW18: =IFERROR(__xludf.DUMMYFUNCTION("""COMPUTED_VALUE"""),0.0) -> 0 | AX18: =IFERROR(__xludf.DUMMYFUNCTION("""COMPUTED_VALUE"""),0.0) -> 0 | AY18: =IFERROR(__xludf.DUMMYFUNCTION("""COMPUTED_VALUE"""),0.0) -> 0 | AZ18: =IFERROR(__xludf.DUMMYFUNCTION("""COMPUTED_VALUE"""),0.0) -> 0 | BA18: =IFERROR(__xludf.DUMMYFUNCTION("""COMPUTED_VALUE"""),0.0) -> 0
C19: =IFERROR(__xludf.DUMMYFUNCTION("""COMPUTED_VALUE"""),2.1) -> 2.1 | D19: =IFERROR(__xludf.DUMMYFUNCTION("""COMPUTED_VALUE"""),"Pembelian Peralatan Mekanik") -> Pembelian Peralatan Mekanik | F19: =IFERROR(__xludf.DUMMYFUNCTION("""COMPUTED_VALUE"""),1.0) -> 1 | G19: =IFERROR(__xludf.DUMMYFUNCTION("""COMPUTED_VALUE"""),10.0) -> 10 | H19: =IFERROR(__xludf.DUMMYFUNCTION("""COMPUTED_VALUE"""),TRUE) -> TRUE | I19: =IFERROR(__xludf.DUMMYFUNCTION("""COMPUTED_VALUE"""),FALSE) -> FALSE | J19: =IFERROR(__xludf.DUMMYFUNCTION("""COMPUTED_VALUE"""),44613.0) -> 44613 | K19: =IFERROR(__xludf.DUMMYFUNCTION("""COMPUTED_VALUE"""),44626.0) -> 44626 | L19: =IFERROR(__xludf.DUMMYFUNCTION("""COMPUTED_VALUE"""),1.0) -> 1 | M19: =IFERROR(__xludf.DUMMYFUNCTION("""COMPUTED_VALUE"""),1.0) -> 1 | N19: =IFERROR(__xludf.DUMMYFUNCTION("""COMPUTED_VALUE"""),1.0) -> 1 | O19: =IFERROR(__xludf.DUMMYFUNCTION("""COMPUTED_VALUE"""),1.0) -> 1 | P19: =IFERROR(__xludf.DUMMYFUNCTION("""COMPUTED_VALUE"""),1.0) -> 1 | Q19: =IFERROR(__xludf.DUMMYFUNCTION("""COMPUTED_VALUE"""),0.0) -> 0 | R19: =IFERROR(__xludf.DUMMYFUNCTION("""COMPUTED_VALUE"""),0.0) -> 0 | S19: =IFERROR(__xludf.DUMMYFUNCTION("""COMPUTED_VALUE"""),1.0) -> 1 | T19: =IFERROR(__xludf.DUMMYFUNCTION("""COMPUTED_VALUE"""),1.0) -> 1 | U19: =IFERROR(__xludf.DUMMYFUNCTION("""COMPUTED_VALUE"""),1.0) -> 1 | V19: =IFERROR(__xludf.DUMMYFUNCTION("""COMPUTED_VALUE"""),1.0) -> 1 | W19: =IFERROR(__xludf.DUMMYFUNCTION("""COMPUTED_VALUE"""),1.0) -> 1 | X19: =IFERROR(__xludf.DUMMYFUNCTION("""COMPUTED_VALUE"""),0.0) -> 0 | Y19: =IFERROR(__xludf.DUMMYFUNCTION("""COMPUTED_VALUE"""),0.0) -> 0 | Z19: =IFERROR(__xludf.DUMMYFUNCTION("""COMPUTED_VALUE"""),0.0) -> 0 | AA19: =IFERROR(__xludf.DUMMYFUNCTION("""COMPUTED_VALUE"""),0.0) -> 0 | AB19: =IFERROR(__xludf.DUMMYFUNCTION("""COMPUTED_VALUE"""),0.0) -> 0 | AC19: =IFERROR(__xludf.DUMMYFUNCTION("""COMPUTED_VALUE"""),0.0) -> 0 | AD19: =IFERROR(__xludf.DUMMYFUNCTION("""COMPUTED_VALUE"""),0.0) -> 0 | AE19: =IFERROR(__xludf.DUMMYFUNCTION("""COMPUTED_VALUE"""),0.0) -> 0 | ... BA19: =IFERROR(__xludf.DUMMYFUNCTION("""COMPUTED_VALUE"""),0.0) -> 0
C20: =IFERROR(__xludf.DUMMYFUNCTION("""COMPUTED_VALUE"""),2.2) -> 2.2 | D20: =IFERROR(__xludf.DUMMYFUNCTION("""COMPUTED_VALUE"""),"Pembuatan Peralatan Mekanik") -> Pembuatan Peralatan Mekanik | F20: =IFERROR(__xludf.DUMMYFUNCTION("""COMPUTED_VALUE"""),1.0) -> 1 | G20: =IFERROR(__xludf.DUMMYFUNCTION("""COMPUTED_VALUE"""),10.0) -> 10 | H20: =IFERROR(__xludf.DUMMYFUNCTION("""COMPUTED_VALUE"""),TRUE) -> TRUE | I20: =IFERROR(__xludf.DUMMYFUNCTION("""COMPUTED_VALUE"""),FALSE) -> FALSE | J20: =IFERROR(__xludf.DUMMYFUNCTION("""COMPUTED_VALUE"""),44627.0) -> 44627 | K20: =IFERROR(__xludf.DUMMYFUNCTION("""COMPUTED_VALUE"""),44640.0) -> 44640 | L20: =IFERROR(__xludf.DUMMYFUNCTION("""COMPUTED_VALUE"""),0.0) -> 0 | M20: =IFERROR(__xludf.DUMMYFUNCTION("""COMPUTED_VALUE"""),0.0) -> 0 | N20: =IFERROR(__xludf.DUMMYFUNCTION("""COMPUTED_VALUE"""),0.0) -> 0 | O20: =IFERROR(__xludf.DUMMYFUNCTION("""COMPUTED_VALUE"""),0.0) -> 0 | P20: =IFERROR(__xludf.DUMMYFUNCTION("""COMPUTED_VALUE"""),0.0) -> 0 | Q20: =IFERROR(__xludf.DUMMYFUNCTION("""COMPUTED_VALUE"""),0.0) -> 0 | R20: =IFERROR(__xludf.DUMMYFUNCTION("""COMPUTED_VALUE"""),0.0) -> 0 | S20: =IFERROR(__xludf.DUMMYFUNCTION("""COMPUTED_VALUE"""),0.0) -> 0 | ... Y20: =IFERROR(__xludf.DUMMYFUNCTION("""COMPUTED_VALUE"""),0.0) -> 0 | Z20: =IFERROR(__xludf.DUMMYFUNCTION("""COMPUTED_VALUE"""),1.0) -> 1 | AA20: =IFERROR(__xludf.DUMMYFUNCTION("""COMPUTED_VALUE"""),1.0) -> 1 | AB20: =IFERROR(__xludf.DUMMYFUNCTION("""COMPUTED_VALUE"""),1.0) -> 1 | AC20: =IFERROR(__xludf.DUMMYFUNCTION("""COMPUTED_VALUE"""),1.0) -> 1 | AD20: =IFERROR(__xludf.DUMMYFUNCTION("""COMPUTED_VALUE"""),1.0) -> 1 | AE20: =IFERROR(__xludf.DUMMYFUNCTION("""COMPUTED_VALUE"""),0.0) -> 0 | AF20: =IFERROR(__xludf.DUMMYFUNCTION("""COMPUTED_VALUE"""),0.0) -> 0 | AG20: =IFERROR(__xludf.DUMMYFUNCTION("""COMPUTED_VALUE"""),1.0) -> 1 | AH20: =IFERROR(__xludf.DUMMYFUNCTION("""COMPUTED_VALUE"""),1.0) -> 1 | AI20: =IFERROR(__xludf.DUMMYFUNCTION("""COMPUTED_VALUE"""),1.0) -> 1 | AJ20: =IFERROR(__xludf.DUMMYFUNCTION("""COMPUTED_VALUE"""),1.0) -> 1 | AK20: =IFERROR(__xludf.DUMMYFUNCTION("""COMPUTED_VALUE"""),1.0) -> 1 | AL20: =IFERROR(__xludf.DUMMYFUNCTION("""COMPUTED_VALUE"""),0.0) -> 0 | AM20: =IFERROR(__xludf.DUMMYFUNCTION("""COMPUTED_VALUE"""),0.0) -> 0 | AN20: =IFERROR(__xludf.DUMMYFUNCTION("""COMPUTED_VALUE"""),0.0) -> 0 | AO20: =IFERROR(__xludf.DUMMYFUNCTION("""COMPUTED_VALUE"""),0.0) -> 0 | AP20: =IFERROR(__xludf.DUMMYFUNCTION("""COMPUTED_VALUE"""),0.0) -> 0 | AQ20: =IFERROR(__xludf.DUMMYFUNCTION("""COMPUTED_VALUE"""),0.0) -> 0 | AR20: =IFERROR(__xludf.DUMMYFUNCTION("""COMPUTED_VALUE"""),0.0) -> 0 | AS20: =IFERROR(__xludf.DUMMYFUNCTION("""COMPUTED_VALUE"""),0.0) -> 0 | ... BA20: =IFERROR(__xludf.DUMMYFUNCTION("""COMPUTED_VALUE"""),0.0) -> 0
C21: =IFERROR(__xludf.DUMMYFUNCTION("""COMPUTED_VALUE"""),2.3) -> 2.3 | D21: =IFERROR(__xludf.DUMMYFUNCTION("""COMPUTED_VALUE"""),"Perakitan Peralatan Mekanik") -> Perakitan Peralatan Mekanik | F21: =IFERROR(__xludf.DUMMYFUNCTION("""COMPUTED_VALUE"""),1.0) -> 1 | G21: =IFERROR(__xludf.DUMMYFUNCTION("""COMPUTED_VALUE"""),5.0) -> 5 | H21: =IFERROR(__xludf.DUMMYFUNCTION("""COMPUTED_VALUE"""),TRUE) -> TRUE | I21: =IFERROR(__xludf.DUMMYFUNCTION("""COMPUTED_VALUE"""),FALSE) -> FALSE | J21: =IFERROR(__xludf.DUMMYFUNCTION("""COMPUTED_VALUE"""),44641.0) -> 44641 | K21: =IFERROR(__xludf.DUMMYFUNCTION("""COMPUTED_VALUE"""),44647.0) -> 44647 | L21: =IFERROR(__xludf.DUMMYFUNCTION("""COMPUTED_VALUE"""),0.0) -> 0 | M21: =IFERROR(__xludf.DUMMYFUNCTION("""COMPUTED_VALUE"""),0.0) -> 0 | N21: =IFERROR(__xludf.DUMMYFUNCTION("""COMPUTED_VALUE"""),0.0) -> 0 | O21: =IFERROR(__xludf.DUMMYFUNCTION("""COMPUTED_VALUE"""),0.0) -> 0 | P21: =IFERROR(__xludf.DUMMYFUNCTION("""COMPUTED_VALUE"""),0.0) -> 0 | Q21: =IFERROR(__xludf.DUMMYFUNCTION("""COMPUTED_VALUE"""),0.0) -> 0 | R21: =IFERROR(__xludf.DUMMYFUNCTION("""COMPUTED_VALUE"""),0.0) -> 0 | S21: =IFERROR(__xludf.DUMMYFUNCTION("""COMPUTED_VALUE"""),0.0) -> 0 | ... AM21: =IFERROR(__xludf.DUMMYFUNCTION("""COMPUTED_VALUE"""),0.0) -> 0 | AN21: =IFERROR(__xludf.DUMMYFUNCTION("""COMPUTED_VALUE"""),1.0) -> 1 | AO21: =IFERROR(__xludf.DUMMYFUNCTION("""COMPUTED_VALUE"""),1.0) -> 1 | AP21: =IFERROR(__xludf.DUMMYFUNCTION("""COMPUTED_VALUE"""),1.0) -> 1 | AQ21: =IFERROR(__xludf.DUMMYFUNCTION("""COMPUTED_VALUE"""),1.0) -> 1 | AR21: =IFERROR(__xludf.DUMMYFUNCTION("""COMPUTED_VALUE"""),1.0) -> 1 | AS21: =IFERROR(__xludf.DUMMYFUNCTION("""COMPUTED_VALUE"""),0.0) -> 0 | AT21: =IFERROR(__xludf.DUMMYFUNCTION("""COMPUTED_VALUE"""),0.0) -> 0 | AU21: =IFERROR(__xludf.DUMMYFUNCTION("""COMPUTED_VALUE"""),0.0) -> 0 | AV21: =IFERROR(__xludf.DUMMYFUNCTION("""COMPUTED_VALUE"""),0.0) -> 0 | AW21: =IFERROR(__xludf.DUMMYFUNCTION("""COMPUTED_VALUE"""),0.0) -> 0 | AX21: =IFERROR(__xludf.DUMMYFUNCTION("""COMPUTED_VALUE"""),0.0) -> 0 | AY21: =IFERROR(__xludf.DUMMYFUNCTION("""COMPUTED_VALUE"""),0.0) -> 0 | AZ21: =IFERROR(__xludf.DUMMYFUNCTION("""COMPUTED_VALUE"""),0.0) -> 0 | BA21: =IFERROR(__xludf.DUMMYFUNCTION("""COMPUTED_VALUE"""),0.0) -> 0
B22: =IFERROR(__xludf.DUMMYFUNCTION("""COMPUTED_VALUE"""),3.0) -> 3 | F22: =IFERROR(__xludf.DUMMYFUNCTION("""COMPUTED_VALUE"""),2.0) -> 2 | G22: =IFERROR(__xludf.DUMMYFUNCTION("""COMPUTED_VALUE"""),5.0) -> 5 | H22: =IFERROR(__xludf.DUMMYFUNCTION("""COMPUTED_VALUE"""),TRUE) -> TRUE | I22: =IFERROR(__xludf.DUMMYFUNCTION("""COMPUTED_VALUE"""),FALSE) -> FALSE | J22: =IFERROR(__xludf.DUMMYFUNCTION("""COMPUTED_VALUE"""),44647.0) -> 44647 | K22: =IFERROR(__xludf.DUMMYFUNCTION("""COMPUTED_VALUE"""),44653.0) -> 44653 | L22: =IFERROR(__xludf.DUMMYFUNCTION("""COMPUTED_VALUE"""),0.0) -> 0 | M22: =IFERROR(__xludf.DUMMYFUNCTION("""COMPUTED_VALUE"""),0.0) -> 0 | N22: =IFERROR(__xludf.DUMMYFUNCTION("""COMPUTED_VALUE"""),0.0) -> 0 | O22: =IFERROR(__xludf.DUMMYFUNCTION("""COMPUTED_VALUE"""),0.0) -> 0 | P22: =IFERROR(__xludf.DUMMYFUNCTION("""COMPUTED_VALUE"""),0.0) -> 0 | Q22: =IFERROR(__xludf.DUMMYFUNCTION("""COMPUTED_VALUE"""),0.0) -> 0 | R22: =IFERROR(__xludf.DUMMYFUNCTION("""COMPUTED_VALUE"""),0.0) -> 0 | S22: =IFERROR(__xludf.DUMMYFUNCTION("""COMPUTED_VALUE"""),0.0) -> 0 | ... AT22: =IFERROR(__xludf.DUMMYFUNCTION("""COMPUTED_VALUE"""),0.0) -> 0 | AU22: =IFERROR(__xludf.DUMMYFUNCTION("""COMPUTED_VALUE"""),1.0) -> 1 | AV22: =IFERROR(__xludf.DUMMYFUNCTION("""COMPUTED_VALUE"""),1.0) -> 1 | AW22: =IFERROR(__xludf.DUMMYFUNCTION("""COMPUTED_VALUE"""),1.0) -> 1 | AX22: =IFERROR(__xludf.DUMMYFUNCTION("""COMPUTED_VALUE"""),1.0) -> 1 | AY22: =IFERROR(__xludf.DUMMYFUNCTION("""COMPUTED_VALUE"""),1.0) -> 1 | AZ22: =IFERROR(__xludf.DUMMYFUNCTION("""COMPUTED_VALUE"""),0.0) -> 0 | BA22: =IFERROR(__xludf.DUMMYFUNCTION("""COMPUTED_VALUE"""),0.0) -> 0
B23: =IFERROR(__xludf.DUMMYFUNCTION("""COMPUTED_VALUE"""),4.0) -> 4 | F23: =IFERROR(__xludf.DUMMYFUNCTION("""COMPUTED_VALUE"""),0.0) -> 0 | G23: =IFERROR(__xludf.DUMMYFUNCTION("""COMPUTED_VALUE"""),1.0) -> 1 | H23: =IFERROR(__xludf.DUMMYFUNCTION("""COMPUTED_VALUE"""),TRUE) -> TRUE | I23: =IFERROR(__xludf.DUMMYFUNCTION("""COMPUTED_VALUE"""),FALSE) -> FALSE | J23: =IFERROR(__xludf.DUMMYFUNCTION("""COMPUTED_VALUE"""),44654.0) -> 44654 | K23: =IFERROR(__xludf.DUMMYFUNCTION("""COMPUTED_VALUE"""),44654.4) -> 44654.4 | L23: =IFERROR(__xludf.DUMMYFUNCTION("""COMPUTED_VALUE"""),0.0) -> 0 | M23: =IFERROR(__xludf.DUMMYFUNCTION("""COMPUTED_VALUE"""),0.0) -> 0 | N23: =IFERROR(__xludf.DUMMYFUNCTION("""COMPUTED_VALUE"""),0.0) -> 0 | O23: =IFERROR(__xludf.DUMMYFUNCTION("""COMPUTED_VALUE"""),0.0) -> 0 | P23: =IFERROR(__xludf.DUMMYFUNCTION("""COMPUTED_VALUE"""),0.0) -> 0 | Q23: =IFERROR(__xludf.DUMMYFUNCTION("""COMPUTED_VALUE"""),0.0) -> 0 | R23: =IFERROR(__xludf.DUMMYFUNCTION("""COMPUTED_VALUE"""),0.0) -> 0 | S23: =IFERROR(__xludf.DUMMYFUNCTION("""COMPUTED_VALUE"""),0.0) -> 0 | ... BA23: =IFERROR(__xludf.DUMMYFUNCTION("""COMPUTED_VALUE"""),0.0) -> 0

Sheet TLP PRIVATE
B5: Mulai: | C5: =today() -> 44957 | E5: Mulai | I5: Selesai: | J5: =MAX(J9:J35) -> 44985 | Q5: Tampilkan Pekan ke | R5: 1
A6: # | B6: Kegiatan | E6: PIC | F6: Durasi (P) | I6: Mulai | J6: Selesai
K7: 1 | L7: 2 | M7: 3 | N7: 4 | O7: 5 | P7: 6 | Q7: 7 | R7: 8 | S7: 9 | T7: 10 | U7: 11 | V7: 12 | W7: 13 | X7: 14 | Y7: 15 | Z7: 16 | AA7: 17 | AB7: 18 | AC7: 19 | AD7: 20 | AE7: 21 | AF7: 22 | AG7: 23 | AH7: 24 | AI7: 25 | AJ7: 26 | AK7: 27 | AL7: 28 | AM7: 29 | AN7: 30 | AO7: 31 | AP7: 32 | AQ7: 33 | AR7: 34 | AS7: 35 | AT7: 36 | AU7: 37 | AV7: 38 | AW7: 39 | AX7: 40 | AY7: 41 | AZ7: 42 | BA7: 43 | BB7: 44 | BC7: 45 | BD7: 46 | BE7: 47 | BF7: 48 | BG7: 49 | BH7: 50 | BI7: 51 | BJ7: 52 | BK7: 53 | BL7: 54 | BM7: 55 | BN7: 56 | BO7: 57 | BP7: 58 | BQ7: 59 | BR7: 60 | BS7: 61 | BT7: 62 | BU7: 63 | BV7: 64 | BW7: 65 | BX7: 66 | BY7: 67 | BZ7: 68 | CA7: 69 | CB7: 70 | CC7: 71 | CD7: 72 | CE7: 73 | CF7: 74 | CG7: 75 | CH7: 76 | CI7: 77 | CJ7: 78 | CK7: 79 | CL7: 80 | CM7: 81 | CN7: 82 | CO7: 83 | CP7: 84 | CQ7: 85 | CR7: 86 | CS7: 87 | CT7: 88 | CU7: 89 | CV7: 90 | CW7: 91
G8: Hari Kerja | H8: Akhir pekan | K8: =ISOWEEKNUM($C$5+(7*K7)) -> 6 | L8: =ISOWEEKNUM($C$5+(7*L7)) -> 7 | M8: =ISOWEEKNUM($C$5+(7*M7)) -> 8 | N8: =ISOWEEKNUM($C$5+(7*N7)) -> 9 | O8: =ISOWEEKNUM($C$5+(7*O7)) -> 10 | P8: =ISOWEEKNUM($C$5+(7*P7)) -> 11 | Q8: =ISOWEEKNUM($C$5+(7*Q7)) -> 12 | R8: =ISOWEEKNUM($C$5+(7*R7)) -> 13 | ... CW8: =ISOWEEKNUM($C$5+(7*CW7)) -> 44
A10: 1 | B10: =RAB!C14 -> Nama Ruang PVC 30 x 15 cm 1pax=7pcs | E10: 1 | K10: =1*EQ(ISOWEEKNUM($I10),K8) -> 0 | L10: =1*EQ(ISOWEEKNUM($I10),L8) -> 0 | M10: =1*EQ(ISOWEEKNUM($I10),M8) -> 0 | N10: =1*EQ(ISOWEEKNUM($I10),N8) -> 0 | O10: =1*EQ(ISOWEEKNUM($I10),O8) -> 0 | P10: =1*EQ(ISOWEEKNUM($I10),P8) -> 0 | Q10: =1*EQ(ISOWEEKNUM($I10),Q8) -> 0 | R10: =1*EQ(ISOWEEKNUM($I10),R8) -> 0 | ... CW10: =1*EQ(ISOWEEKNUM($I10),CW8) -> 0
C11: membeli bahan | F11: 3 | I11: =C5+7 -> 44964 | J11: =I11+(7*F11) -> 44985 | K11: =1*EQ(ISOWEEKNUM(I11),ISOWEEKNUM(C5+K7)) -> 0 | L11: =1*AND(GTE(ISOWEEKNUM($I11),L$8), LTE(ISOWEEKNUM($J11),L$8)) -> 0 | M11: =1*AND(GTE(ISOWEEKNUM($I11),M$8), LTE(ISOWEEKNUM($J11),M$8)) -> 0 | N11: =1*AND(GTE(ISOWEEKNUM($I11),N$8), LTE(ISOWEEKNUM($J11),N$8)) -> 0 | O11: =1*AND(GTE(ISOWEEKNUM($I11),O$8), LTE(ISOWEEKNUM($J11),O$8)) -> 0 | P11: =1*AND(GTE(ISOWEEKNUM($I11),P$8), LTE(ISOWEEKNUM($J11),P$8)) -> 0 | Q11: =1*AND(GTE(ISOWEEKNUM($I11),Q$8), LTE(ISOWEEKNUM($J11),Q$8)) -> 0 | R11: =1*AND(GTE(ISOWEEKNUM($I11),R$8), LTE(ISOWEEKNUM($J11),R$8)) -> 0 | S11: =1*AND(GTE(ISOWEEKNUM($I11),S$8), LTE(ISOWEEKNUM($J11),S$8)) -> 0 | ... X11: =1*AND(GTE(ISOWEEKNUM($I11),X$8), LTE(ISOWEEKNUM($J11),X$8)) -> 0 | Y11: =1*EQ(ISOWEEKNUM($I11),Y9) -> 0 | Z11: =1*EQ(ISOWEEKNUM($I11),Z9) -> 0 | AA11: =1*EQ(ISOWEEKNUM($I11),AA9) -> 0 | AB11: =1*EQ(ISOWEEKNUM($I11),AB9) -> 0 | AC11: =1*EQ(ISOWEEKNUM($I11),AC9) -> 0 | AD11: =1*EQ(ISOWEEKNUM($I11),AD9) -> 0 | AE11: =1*EQ(ISOWEEKNUM($I11),AE9) -> 0 | AF11: =1*EQ(ISOWEEKNUM($I11),AF9) -> 0 | ... CW11: =1*EQ(ISOWEEKNUM($I11),CW9) -> 0
C12: pengerjaan pvc | K12: =1*EQ(ISOWEEKNUM($I12),K10) -> 0 | L12: =1*EQ(ISOWEEKNUM($I12),L10) -> 0 | M12: =1*EQ(ISOWEEKNUM($I12),M10) -> 0 | N12: =1*EQ(ISOWEEKNUM($I12),N10) -> 0 | O12: =1*EQ(ISOWEEKNUM($I12),O10) -> 0 | P12: =1*EQ(ISOWEEKNUM($I12),P10) -> 0 | Q12: =1*EQ(ISOWEEKNUM($I12),Q10) -> 0 | R12: =1*EQ(ISOWEEKNUM($I12),R10) -> 0 | ... CW12: =1*EQ(ISOWEEKNUM($I12),CW10) -> 0
C13: finnishing | K13: =1*EQ(ISOWEEKNUM($I13),K11) -> 0 | L13: =1*EQ(ISOWEEKNUM($I13),L11) -> 0 | M13: =1*EQ(ISOWEEKNUM($I13),M11) -> 0 | N13: =1*EQ(ISOWEEKNUM($I13),N11) -> 0 | O13: =1*EQ(ISOWEEKNUM($I13),O11) -> 0 | P13: =1*EQ(ISOWEEKNUM($I13),P11) -> 0 | Q13: =1*EQ(ISOWEEKNUM($I13),Q11) -> 0 | R13: =1*EQ(ISOWEEKNUM($I13),R11) -> 0 | ... CW13: =1*EQ(ISOWEEKNUM($I13),CW11) -> 0
A14: 2 | B14: =RAB!C15 -> Logo Provinsi dan Sekolah W40cm | E14: 1 | K14: =1*EQ(ISOWEEKNUM($I14),K12) -> 0 | L14: =1*EQ(ISOWEEKNUM($I14),L12) -> 0 | M14: =1*EQ(ISOWEEKNUM($I14),M12) -> 0 | N14: =1*EQ(ISOWEEKNUM($I14),N12) -> 0 | O14: =1*EQ(ISOWEEKNUM($I14),O12) -> 0 | P14: =1*EQ(ISOWEEKNUM($I14),P12) -> 0 | Q14: =1*EQ(ISOWEEKNUM($I14),Q12) -> 0 | R14: =1*EQ(ISOWEEKNUM($I14),R12) -> 0 | ... CW14: =1*EQ(ISOWEEKNUM($I14),CW12) -> 0
C15: Membeli bahan | K15: =1*EQ(ISOWEEKNUM($I15),K13) -> 0 | L15: =1*EQ(ISOWEEKNUM($I15),L13) -> 0 | M15: =1*EQ(ISOWEEKNUM($I15),M13) -> 0 | N15: =1*EQ(ISOWEEKNUM($I15),N13) -> 0 | O15: =1*EQ(ISOWEEKNUM($I15),O13) -> 0 | P15: =1*EQ(ISOWEEKNUM($I15),P13) -> 0 | Q15: =1*EQ(ISOWEEKNUM($I15),Q13) -> 0 | R15: =1*EQ(ISOWEEKNUM($I15),R13) -> 0 | ... CW15: =1*EQ(ISOWEEKNUM($I15),CW13) -> 0
C16: Pengerjaan akrilik | K16: =1*EQ(ISOWEEKNUM($I16),K14) -> 0 | L16: =1*EQ(ISOWEEKNUM($I16),L14) -> 0 | M16: =1*EQ(ISOWEEKNUM($I16),M14) -> 0 | N16: =1*EQ(ISOWEEKNUM($I16),N14) -> 0 | O16: =1*EQ(ISOWEEKNUM($I16),O14) -> 0 | P16: =1*EQ(ISOWEEKNUM($I16),P14) -> 0 | Q16: =1*EQ(ISOWEEKNUM($I16),Q14) -> 0 | R16: =1*EQ(ISOWEEKNUM($I16),R14) -> 0 | ... CW16: =1*EQ(ISOWEEKNUM($I16),CW14) -> 0
C17: pemesanan stiker | K17: =1*EQ(ISOWEEKNUM($I17),K15) -> 0 | L17: =1*EQ(ISOWEEKNUM($I17),L15) -> 0 | M17: =1*EQ(ISOWEEKNUM($I17),M15) -> 0 | N17: =1*EQ(ISOWEEKNUM($I17),N15) -> 0 | O17: =1*EQ(ISOWEEKNUM($I17),O15) -> 0 | P17: =1*EQ(ISOWEEKNUM($I17),P15) -> 0 | Q17: =1*EQ(ISOWEEKNUM($I17),Q15) -> 0 | R17: =1*EQ(ISOWEEKNUM($I17),R15) -> 0 | ... CW17: =1*EQ(ISOWEEKNUM($I17),CW15) -> 0
C18: finnishing | K18: =1*EQ(ISOWEEKNUM($I18),K16) -> 0 | L18: =1*EQ(ISOWEEKNUM($I18),L16) -> 0 | M18: =1*EQ(ISOWEEKNUM($I18),M16) -> 0 | N18: =1*EQ(ISOWEEKNUM($I18),N16) -> 0 | O18: =1*EQ(ISOWEEKNUM($I18),O16) -> 0 | P18: =1*EQ(ISOWEEKNUM($I18),P16) -> 0 | Q18: =1*EQ(ISOWEEKNUM($I18),Q16) -> 0 | R18: =1*EQ(ISOWEEKNUM($I18),R16) -> 0 | ... CW18: =1*EQ(ISOWEEKNUM($I18),CW16) -> 0
A19: 3 | B19: =RAB!C16 -> Logo Sekolah W80cm | E19: 1 | K19: =1*EQ(ISOWEEKNUM($I19),K17) -> 0 | L19: =1*EQ(ISOWEEKNUM($I19),L17) -> 0 | M19: =1*EQ(ISOWEEKNUM($I19),M17) -> 0 | N19: =1*EQ(ISOWEEKNUM($I19),N17) -> 0 | O19: =1*EQ(ISOWEEKNUM($I19),O17) -> 0 | P19: =1*EQ(ISOWEEKNUM($I19),P17) -> 0 | Q19: =1*EQ(ISOWEEKNUM($I19),Q17) -> 0 | R19: =1*EQ(ISOWEEKNUM($I19),R17) -> 0 | ... CW19: =1*EQ(ISOWEEKNUM($I19),CW17) -> 0
C20: Membeli bahan | K20: =1*EQ(ISOWEEKNUM($I20),K18) -> 0 | L20: =1*EQ(ISOWEEKNUM($I20),L18) -> 0 | M20: =1*EQ(ISOWEEKNUM($I20),M18) -> 0 | N20: =1*EQ(ISOWEEKNUM($I20),N18) -> 0 | O20: =1*EQ(ISOWEEKNUM($I20),O18) -> 0 | P20: =1*EQ(ISOWEEKNUM($I20),P18) -> 0 | Q20: =1*EQ(ISOWEEKNUM($I20),Q18) -> 0 | R20: =1*EQ(ISOWEEKNUM($I20),R18) -> 0 | ... CW20: =1*EQ(ISOWEEKNUM($I20),CW18) -> 0
C21: Pengerjaan akrilik | K21: =1*EQ(ISOWEEKNUM($I21),K19) -> 0 | L21: =1*EQ(ISOWEEKNUM($I21),L19) -> 0 | M21: =1*EQ(ISOWEEKNUM($I21),M19) -> 0 | N21: =1*EQ(ISOWEEKNUM($I21),N19) -> 0 | O21: =1*EQ(ISOWEEKNUM($I21),O19) -> 0 | P21: =1*EQ(ISOWEEKNUM($I21),P19) -> 0 | Q21: =1*EQ(ISOWEEKNUM($I21),Q19) -> 0 | R21: =1*EQ(ISOWEEKNUM($I21),R19) -> 0 | ... CW21: =1*EQ(ISOWEEKNUM($I21),CW19) -> 0
C22: pemesanan stiker | K22: =1*EQ(ISOWEEKNUM($I22),K20) -> 0 | L22: =1*EQ(ISOWEEKNUM($I22),L20) -> 0 | M22: =1*EQ(ISOWEEKNUM($I22),M20) -> 0 | N22: =1*EQ(ISOWEEKNUM($I22),N20) -> 0 | O22: =1*EQ(ISOWEEKNUM($I22),O20) -> 0 | P22: =1*EQ(ISOWEEKNUM($I22),P20) -> 0 | Q22: =1*EQ(ISOWEEKNUM($I22),Q20) -> 0 | R22: =1*EQ(ISOWEEKNUM($I22),R20) -> 0 | ... CW22: =1*EQ(ISOWEEKNUM($I22),CW20) -> 0
C23: finnishing | K23: =1*EQ(ISOWEEKNUM($I23),K21) -> 0 | L23: =1*EQ(ISOWEEKNUM($I23),L21) -> 0 | M23: =1*EQ(ISOWEEKNUM($I23),M21) -> 0 | N23: =1*EQ(ISOWEEKNUM($I23),N21) -> 0 | O23: =1*EQ(ISOWEEKNUM($I23),O21) -> 0 | P23: =1*EQ(ISOWEEKNUM($I23),P21) -> 0 | Q23: =1*EQ(ISOWEEKNUM($I23),Q21) -> 0 | R23: =1*EQ(ISOWEEKNUM($I23),R21) -> 0 | ... CW23: =1*EQ(ISOWEEKNUM($I23),CW21) -> 0
A24: 4 | B24: =RAB!C17 -> Huruf Timbul H30cm pax=4huruf | E24: 1 | K24: =1*EQ(ISOWEEKNUM($I24),K22) -> 0 | L24: =1*EQ(ISOWEEKNUM($I24),L22) -> 0 | M24: =1*EQ(ISOWEEKNUM($I24),M22) -> 0 | N24: =1*EQ(ISOWEEKNUM($I24),N22) -> 0 | O24: =1*EQ(ISOWEEKNUM($I24),O22) -> 0 | P24: =1*EQ(ISOWEEKNUM($I24),P22) -> 0 | Q24: =1*EQ(ISOWEEKNUM($I24),Q22) -> 0 | R24: =1*EQ(ISOWEEKNUM($I24),R22) -> 0 | ... CW24: =1*EQ(ISOWEEKNUM($I24),CW22) -> 0
C25: membeli bahan | K25: =1*EQ(ISOWEEKNUM($I25),K23) -> 0 | L25: =1*EQ(ISOWEEKNUM($I25),L23) -> 0 | M25: =1*EQ(ISOWEEKNUM($I25),M23) -> 0 | N25: =1*EQ(ISOWEEKNUM($I25),N23) -> 0 | O25: =1*EQ(ISOWEEKNUM($I25),O23) -> 0 | P25: =1*EQ(ISOWEEKNUM($I25),P23) -> 0 | Q25: =1*EQ(ISOWEEKNUM($I25),Q23) -> 0 | R25: =1*EQ(ISOWEEKNUM($I25),R23) -> 0 | ... CW25: =1*EQ(ISOWEEKNUM($I25),CW23) -> 0
C26: pengerjaan akrilik | K26: =1*EQ(ISOWEEKNUM($I26),K24) -> 0 | L26: =1*EQ(ISOWEEKNUM($I26),L24) -> 0 | M26: =1*EQ(ISOWEEKNUM($I26),M24) -> 0 | N26: =1*EQ(ISOWEEKNUM($I26),N24) -> 0 | O26: =1*EQ(ISOWEEKNUM($I26),O24) -> 0 | P26: =1*EQ(ISOWEEKNUM($I26),P24) -> 0 | Q26: =1*EQ(ISOWEEKNUM($I26),Q24) -> 0 | R26: =1*EQ(ISOWEEKNUM($I26),R24) -> 0 | ... CW26: =1*EQ(ISOWEEKNUM($I26),CW24) -> 0
C27: finishing | K27: =1*EQ(ISOWEEKNUM($I27),K25) -> 0 | L27: =1*EQ(ISOWEEKNUM($I27),L25) -> 0 | M27: =1*EQ(ISOWEEKNUM($I27),M25) -> 0 | N27: =1*EQ(ISOWEEKNUM($I27),N25) -> 0 | O27: =1*EQ(ISOWEEKNUM($I27),O25) -> 0 | P27: =1*EQ(ISOWEEKNUM($I27),P25) -> 0 | Q27: =1*EQ(ISOWEEKNUM($I27),Q25) -> 0 | R27: =1*EQ(ISOWEEKNUM($I27),R25) -> 0 | ... CW27: =1*EQ(ISOWEEKNUM($I27),CW25) -> 0
A28: 5 | B28: =RAB!C18 -> Neon Text "Merdeka Belajar" | E28: 1 | K28: =1*EQ(ISOWEEKNUM($I28),K26) -> 0 | L28: =1*EQ(ISOWEEKNUM($I28),L26) -> 0 | M28: =1*EQ(ISOWEEKNUM($I28),M26) -> 0 | N28: =1*EQ(ISOWEEKNUM($I28),N26) -> 0 | O28: =1*EQ(ISOWEEKNUM($I28),O26) -> 0 | P28: =1*EQ(ISOWEEKNUM($I28),P26) -> 0 | Q28: =1*EQ(ISOWEEKNUM($I28),Q26) -> 0 | R28: =1*EQ(ISOWEEKNUM($I28),R26) -> 0 | ... CW28: =1*EQ(ISOWEEKNUM($I28),CW26) -> 0
C29: membeli bahan | K29: =1*EQ(ISOWEEKNUM($I29),K27) -> 0 | L29: =1*EQ(ISOWEEKNUM($I29),L27) -> 0 | M29: =1*EQ(ISOWEEKNUM($I29),M27) -> 0 | N29: =1*EQ(ISOWEEKNUM($I29),N27) -> 0 | O29: =1*EQ(ISOWEEKNUM($I29),O27) -> 0 | P29: =1*EQ(ISOWEEKNUM($I29),P27) -> 0 | Q29: =1*EQ(ISOWEEKNUM($I29),Q27) -> 0 | R29: =1*EQ(ISOWEEKNUM($I29),R27) -> 0 | ... CW29: =1*EQ(ISOWEEKNUM($I29),CW27) -> 0
C30: pengerjaan | K30: =1*EQ(ISOWEEKNUM($I30),K28) -> 0 | L30: =1*EQ(ISOWEEKNUM($I30),L28) -> 0 | M30: =1*EQ(ISOWEEKNUM($I30),M28) -> 0 | N30: =1*EQ(ISOWEEKNUM($I30),N28) -> 0 | O30: =1*EQ(ISOWEEKNUM($I30),O28) -> 0 | P30: =1*EQ(ISOWEEKNUM($I30),P28) -> 0 | Q30: =1*EQ(ISOWEEKNUM($I30),Q28) -> 0 | R30: =1*EQ(ISOWEEKNUM($I30),R28) -> 0 | ... CW30: =1*EQ(ISOWEEKNUM($I30),CW28) -> 0
C31: finishing | K31: =1*EQ(ISOWEEKNUM($I31),K29) -> 0 | L31: =1*EQ(ISOWEEKNUM($I31),L29) -> 0 | M31: =1*EQ(ISOWEEKNUM($I31),M29) -> 0 | N31: =1*EQ(ISOWEEKNUM($I31),N29) -> 0 | O31: =1*EQ(ISOWEEKNUM($I31),O29) -> 0 | P31: =1*EQ(ISOWEEKNUM($I31),P29) -> 0 | Q31: =1*EQ(ISOWEEKNUM($I31),Q29) -> 0 | R31: =1*EQ(ISOWEEKNUM($I31),R29) -> 0 | ... CW31: =1*EQ(ISOWEEKNUM($I31),CW29) -> 0
A32: 6 | B32: =RAB!C19 -> Neon Text "Sekolah Penggerak" | E32: 1 | K32: =1*EQ(ISOWEEKNUM($I32),K30) -> 0 | L32: =1*EQ(ISOWEEKNUM($I32),L30) -> 0 | M32: =1*EQ(ISOWEEKNUM($I32),M30) -> 0 | N32: =1*EQ(ISOWEEKNUM($I32),N30) -> 0 | O32: =1*EQ(ISOWEEKNUM($I32),O30) -> 0 | P32: =1*EQ(ISOWEEKNUM($I32),P30) -> 0 | Q32: =1*EQ(ISOWEEKNUM($I32),Q30) -> 0 | R32: =1*EQ(ISOWEEKNUM($I32),R30) -> 0 | ... CW32: =1*EQ(ISOWEEKNUM($I32),CW30) -> 0
C33: membeli bahan | K33: =1*EQ(ISOWEEKNUM($I33),K31) -> 0 | L33: =1*EQ(ISOWEEKNUM($I33),L31) -> 0 | M33: =1*EQ(ISOWEEKNUM($I33),M31) -> 0 | N33: =1*EQ(ISOWEEKNUM($I33),N31) -> 0 | O33: =1*EQ(ISOWEEKNUM($I33),O31) -> 0 | P33: =1*EQ(ISOWEEKNUM($I33),P31) -> 0 | Q33: =1*EQ(ISOWEEKNUM($I33),Q31) -> 0 | R33: =1*EQ(ISOWEEKNUM($I33),R31) -> 0 | ... CW33: =1*EQ(ISOWEEKNUM($I33),CW31) -> 0
C34: pengerjaan | K34: =1*EQ(ISOWEEKNUM($I34),K32) -> 0 | L34: =1*EQ(ISOWEEKNUM($I34),L32) -> 0 | M34: =1*EQ(ISOWEEKNUM($I34),M32) -> 0 | N34: =1*EQ(ISOWEEKNUM($I34),N32) -> 0 | O34: =1*EQ(ISOWEEKNUM($I34),O32) -> 0 | P34: =1*EQ(ISOWEEKNUM($I34),P32) -> 0 | Q34: =1*EQ(ISOWEEKNUM($I34),Q32) -> 0 | R34: =1*EQ(ISOWEEKNUM($I34),R32) -> 0 | ... CW34: =1*EQ(ISOWEEKNUM($I34),CW32) -> 0
C35: finishing | K35: =1*EQ(ISOWEEKNUM($I35),K33) -> 0 | L35: =1*EQ(ISOWEEKNUM($I35),L33) -> 0 | M35: =1*EQ(ISOWEEKNUM($I35),M33) -> 0 | N35: =1*EQ(ISOWEEKNUM($I35),N33) -> 0 | O35: =1*EQ(ISOWEEKNUM($I35),O33) -> 0 | P35: =1*EQ(ISOWEEKNUM($I35),P33) -> 0 | Q35: =1*EQ(ISOWEEKNUM($I35),Q33) -> 0 | R35: =1*EQ(ISOWEEKNUM($I35),R33) -> 0 | ... CW35: =1*EQ(ISOWEEKNUM($I35),CW33) -> 0

Sheet Actual TLP
B1: Mulai | C1: ='TLP PRIVATE'!C5 -> 44957 | Q1: Tampilkan Pekan ke | R1: 0
K2: 0 | R2: 1 | Y2: 2 | AF2: 3 | AM2: 4 | AT2: 5 | BA2: 6 | BH2: 7 | BO2: 8 | BV2: 9 | CC2: 10 | CJ2: 11 | CQ2: 12 | CX2: 13 | DE2: 14 | DL2: 15 | DS2: 16 | DZ2: 17
A3: # | B3: Kegiatan | E3: PIC | F3: Durasi (H) | I3: Mulai | J3: Selesai | K3: =K4 -> 44949 | R3: =R4 -> 44956 | Y3: =Y4 -> 44963 | AF3: =AF4 -> 44970 | AM3: =AM4 -> 44977 | AT3: =AT4 -> 44984 | BA3: =BA4 -> 44991 | BH3: =BH4 -> 44998 | BO3: =BO4 -> 45005 | BV3: =BV4 -> 45012 | CC3: =CC4 -> 45019 | CJ3: =CJ4 -> 45026 | CQ3: =CQ4 -> 45033 | CX3: =CX4 -> 45040 | DE3: =DE4 -> 45047 | DL3: =DL4 -> 45054 | DS3: =DS4 -> 45061 | DZ3: =DZ4 -> 45068
K4: =$C$1-WEEKDAY($C$1,1)+2+7*($R$1-1) -> 44949 | L4: =K4+1 -> 44950 | M4: =L4+1 -> 44951 | N4: =M4+1 -> 44952 | O4: =N4+1 -> 44953 | P4: =O4+1 -> 44954 | Q4: =P4+1 -> 44955 | R4: =Q4+1 -> 44956 | S4: =R4+1 -> 44957 | ... EF4: =EE4+1 -> 45074
G5: Hari Kerja | H5: Akhir pekan | K5: =TEXT(K4, "ddd") -> Mon | L5: =TEXT(L4, "ddd") -> Tue | M5: =TEXT(M4, "ddd") -> Wed | N5: =TEXT(N4, "ddd") -> Thu | O5: =TEXT(O4, "ddd") -> Fri | P5: =TEXT(P4, "ddd") -> Sat | Q5: =TEXT(Q4, "ddd") -> Sun | R5: =TEXT(R4, "ddd") -> Mon | ... EF5: =TEXT(EF4, "ddd") -> Sun
A7: 1 | B7: =OFFSET(#REF!,0,0,10,1) -> #REF! | E7: 1 | F7: =sum(F8:F1050) -> 105 | G7: TRUE | H7: FALSE | I7: =$C$1 -> 44957 | J7: =max(J8:J10) -> 44986.8
E8: 1 | F8: =sum(L8:EF8) -> 21 | G8: TRUE | H8: FALSE | I8: =C1 -> 44957 | J8: =if(H8,(I8+(F8/2)*7),IF(G8,(I8+((F8/5)*7)-1),(I8-1)+F8)) -> 44985.4 | P8: 1 | R8: 1 | S8: 0 | T8: 0 | U8: 1 | V8: 1 | Y8: 1 | AA8: 1 | AM8: 1 | AN8: 1 | AO8: 1 | AP8: 1 | AQ8: 1 | AT8: 1 | AU8: 1 | AV8: 1 | AW8: 1 | AX8: 1 | BA8: 1 | BB8: 1 | BC8: 1 | BD8: 1 | BE8: 1
E9: 1 | F9: =sum(L9:EF9) -> 17 | G9: TRUE | H9: FALSE | I9: =I8 -> 44957 | J9: =if(H9,(I9+(F9/2)*7),IF(G9,(I9+((F9/5)*7)-1),(I9-1)+F9)) -> 44979.8 | AP9: 1 | AQ9: 1 | AT9: 1 | AU9: 1 | AV9: 1 | AW9: 1 | AX9: 1 | BA9: 1 | BB9: 1 | BC9: 1 | BD9: 1 | BE9: 1 | BH9: 1 | BI9: 1 | BJ9: 1 | BK9: 1 | BL9: 1
E10: 1 | F10: =sum(L10:EF10) -> 5 | G10: TRUE | H10: FALSE | I10: =J9+1 -> 44980.8 | J10: =if(H10,(I10+(F10/2)*7),IF(G10,(I10+((F10/5)*7)-1),(I10-1)+F10)) -> 44986.8 | BH10: 1 | BI10: 1 | BJ10: 1 | BK10: 1 | BL10: 1
E11: 1 | F11: =sum(L11:EF11) -> 10 | G11: TRUE | H11: FALSE | I11: =$C$1 -> 44957 | J11: =if(H11,(I11+(F11/2)*7),IF(G11,(I11+((F11/5)*7)-1),(I11-1)+F11)) -> 44970 | BH11: 1 | BI11: 1 | BJ11: 1 | BK11: 1 | BL11: 1 | BO11: 1 | BP11: 1 | BQ11: 1 | BR11: 1 | BS11: 1
E12: 1 | F12: =sum(L12:EF12) -> 15 | G12: TRUE | H12: FALSE | I12: =$C$1 -> 44957 | J12: =if(H12,(I12+(F12/2)*7),IF(G12,(I12+((F12/4.7)*7)),(I12-1)+F12)) -> 44979.34 | AJ12: 1 | AK12: 0 | AL12: 0 | AM12: 1 | AN12: 1 | AO12: 1 | AP12: 1 | AQ12: 1 | AT12: 1 | BJ12: 1 | BK12: 1 | BL12: 1 | BV12: 1 | BW12: 1 | BX12: 1 | BY12: 1 | BZ12: 1
E13: 1 | F13: =sum(L13:EF13) -> 0 | G13: TRUE | H13: FALSE | I13: =J9+1 -> 44980.8 | J13: =if(H13,(I13+(F13/2)*7),IF(G13,(I13+((F13/5)*7)-1),(I13-1)+F13)) -> 44979.8
E14: 1 | F14: =sum(L14:EF14) -> 15 | G14: TRUE | H14: FALSE | I14: =J13+1 -> 44980.8 | J14: =if(H14,(I14+(F14/2)*7),IF(G14,(I14+((F14/5)*7)-1),(I14-1)+F14)) -> 45000.8 | BO14: 1 | BP14: 1 | BQ14: 1 | BR14: 1 | BS14: 1 | BV14: 1 | BW14: 1 | BX14: 1 | BY14: 1 | BZ14: 1 | CC14: 1 | CD14: 1 | CE14: 1 | CF14: 1 | CG14: 1
E15: 2 | F15: =sum(L15:EF15) -> 22 | G15: TRUE | H15: FALSE | I15: =max(J7,J11) -> 44986.8 | J15: =if(H15,(I15+(F15/2)*7),IF(G15,(I15+((F15/5)*7)-1),(I15-1)+F15)) -> 45016.6 | BL15: 1 | BM15: 0 | BO15: 1 | BP15: 1 | BQ15: 1 | BR15: 1 | BS15: 1 | BV15: 1 | BW15: 1 | BX15: 1 | BY15: 1 | BZ15: 1 | CC15: 1 | CD15: 1 | CE15: 1 | CF15: 1 | CG15: 1 | CJ15: 1 | CK15: 1 | CL15: 1 | CM15: 1 | CN15: 1 | CQ15: 1
E16: 0 | F16: 0 | G16: TRUE | H16: FALSE | I16: =J15+1 -> 45017.6 | J16: =if(H16,(I16+(F16/2)*7),IF(G16,(I16+((F16/5)*7)-1),(I16-1)+F16)) -> 45016.6

Sheet RAB PRIVATE
A1: # | B1: Nama Barang | D1: Satuan | E1: Qty | F1: Harga Satuan | G1: Harga Total | H1: Harga Satuan [Private] | I1: Harga Total | J1: Informasi Toko atau Barang
I2: 1.5
B3: SMAN 4 MALANG | E3: 1 | F3: =G4+G10+G15+G20+G24+G29 -> 17272674 | G3: =E3*F3 -> 17272674 | I3: =I4+I10+I15+I20+I24+I29 -> 11515116
A4: A | B4: Nama Ruang PVC 30 x 15 cm 1pax=7pcs | D4: pax | E4: =42/7 -> 6 | F4: =sum(G5:G9) -> 1019569.2 | G4: =F4*E4 -> 6117415.5 | H4: =sum(I5:I8) -> 679712.83 | I4: =H4*E4 -> 4078277
B5: PVC Board 3MM 60 x 80 cm | D5: pcs | E5: =((34*19)*(7*2))/(60*80) -> 1.8841667 | F5: =H5*$I$2 -> 87750 | G5: =F5*E5 -> 165335.62 | H5: =58500 -> 58500 | I5: =H5*E5 -> 110223.75 | J5: https://www.tokopedia.com/naesshop/pvc-foam-board-3m-papan-lembaran-60cm-x-80cm?extParam=whid%3D4865630
B6: pylox hitam flat | D6: pcs | E6: =E5 -> 1.8841667 | F6: =H6*$I$2 -> 49350 | G6: =F6*E6 -> 92983.625 | H6: 32900 | I6: =H6*E6 -> 61989.083 | J6: https://www.tokopedia.com/smarttools/cat-semprot-pylox-black-flat-black-doff?extParam=ivf%3Dfalse%26src%3Dsearch
B7: Jasa potong | D7: cm2 | E7: =60*80*2 -> 9600 | F7: =H7*$I$2 -> 75 | G7: =F7*E7 -> 720000 | H7: 50 | I7: =H7*E7 -> 480000
B8: gantungan | D8: pax | E8: 1 | F8: =H8*$I$2 -> 41250 | G8: =F8*E8 -> 41250 | H8: 27500 | I8: =H8*E8 -> 27500 | J8: https://www.tokopedia.com/kios66/gantungan-kunci-besi-gantungan-besar?extParam=ivf%3Dfalse&src=topads
A10: B | B10: Logo Provinsi dan Sekolah W40cm | D10: pcs | E10: 2 | F10: =sum(G11:G14) -> 652410 | G10: =F10*E10 -> 1304820 | H10: =sum(I11:I14) -> 434940 | I10: =H10*E10 -> 869880
B11: Akrilik 2 mm 40 x 60 cm | D11: pcs | E11: =((45*65)*2)/(100*100) -> 0.585 | F11: =H11*$I$2 -> 471000 | G11: =F11*E11 -> 275535 | H11: 314000 | I11: =H11*E11 -> 183690 | J11: https://www.tokopedia.com/aeol/akrilik-putih-susu-3mm-100x100-dan-100x200-100x100?extParam=whid%3D2074901
B12: Sticker vinyl 100 x 100 cm | D12: pcs | E12: 1 | F12: =H12*$I$2 -> 157500 | G12: =F12*E12 -> 157500 | H12: 105000 | I12: =H12*E12 -> 105000 | J12: https://www.tokopedia.com/kuynyetak/cetak-stiker-vinyl-meteran-indoor-outdoor-print-stiker-meteran-laminasi-doff?extParam=ivf%3Dfalse&src=topads
B13: jasa potong akrilik | D13: cm2 | E13: =45*65*2 -> 5850 | F13: =H13*$I$2 -> 37.5 | G13: =F13*E13 -> 219375 | H13: 25 | I13: =H13*E13 -> 146250
F14: =H14*$I$2 -> 0 | G14: =F14*E14 -> 0 | I14: =H14*E14 -> 0
A15: C | B15: Logo Sekolah W80cm | D15: pcs | E15: 1 | F15: =sum(G16:G19) -> 1598235 | G15: =F15*E15 -> 1598235 | H15: =sum(I16:I19) -> 1065490 | I15: =H15*E15 -> 1065490
B16: Akrilik 2 mm 80 x 100 cm | D16: pcs | E16: =((85*105)*2)/(100*100) -> 1.785 | F16: =H16*$I$2 -> 471000 | G16: =F16*E16 -> 840735 | H16: 314000 | I16: =H16*E16 -> 560490 | J16: https://www.tokopedia.com/aeol/akrilik-putih-susu-3mm-100x100-dan-100x200-100x100?extParam=whid%3D2074901
B17: Sticker vinyl 100 x 100 cm | D17: pcs | E17: 1 | F17: =H17*$I$2 -> 157500 | G17: =F17*E17 -> 157500 | H17: 105000 | I17: =H17*E17 -> 105000 | J17: https://www.tokopedia.com/kuynyetak/cetak-stiker-vinyl-meteran-indoor-outdoor-print-stiker-meteran-laminasi-doff?extParam=ivf%3Dfalse&src=topads
B18: jasa potong akrilik | D18: cm2 | E18: =80*100*2 -> 16000 | F18: =H18*$I$2 -> 37.5 | G18: =F18*E18 -> 600000 | H18: 25 | I18: =H18*E18 -> 400000
F19: =H19*$I$2 -> 0 | G19: =F19*E19 -> 0 | I19: =H19*E19 -> 0
A20: D | B20: Huruf Timbul H30cm pax=4huruf | D20: pax | E20: =11/4 -> 2.75 | F20: =sum(G21:G23) -> 2104597.7 | G20: =F20*E20 -> 5787643.7 | H20: =sum(I21:I23) -> 1403065.1 | I20: =H20*E20 -> 3858429.1
B21: Akrilik 2 mm 80 x 100 cm | D21: pcs | E21: =(100*100)/(35*30+((2*(35+30)*2)*6)) -> 3.8314176 | F21: =H21*$I$2 -> 471000 | G21: =F21*E21 -> 1804597.7 | H21: 314000 | I21: =H21*E21 -> 1203065.1 | J21: https://www.tokopedia.com/aeol/akrilik-putih-susu-3mm-100x100-dan-100x200-100x100?extParam=whid%3D2074901
B22: jasa potong akrilik | D22: cm2 | E22: =80*100 -> 8000 | F22: =H22*$I$2 -> 37.5 | G22: =F22*E22 -> 300000 | H22: 25 | I22: =H22*E22 -> 200000
F23: =H23*$I$2 -> 0 | G23: =F23*E23 -> 0 | I23: =H23*E23 -> 0
A24: E | B24: Neon Text "Merdeka Belajar" | D24: pax | E24: 1 | F24: =sum(G25:G28) -> 1221828 | G24: =F24*E24 -> 1221828 | H24: =sum(I25:I28) -> 814552 | I24: =H24*E24 -> 814552
B25: neon flex | D25: pcs | E25: =(((104/2)*14)/100)/5 -> 1.456 | F25: =H25*$I$2 -> 100500 | G25: =F25*E25 -> 146328 | H25: 67000 | I25: =H25*E25 -> 97552 | J25: https://www.tokopedia.com/funminishop/lampu-neon-flex-selang-12v-dc-neonflex-12v-neonflexible-led-neonsign-warmwhite?extParam=ivf%3Dfalse&src=topads
B26: jasa potong akrilik | D26: cm2 | E26: =80*300 -> 24000 | F26: =H26*$I$2 -> 37.5 | G26: =F26*E26 -> 900000 | H26: 25 | I26: =H26*E26 -> 600000
B27: PSU 12 V | D27: pcs | E27: 1 | F27: =H27*$I$2 -> 175500 | G27: =F27*E27 -> 175500 | H27: 117000 | I27: =H27*E27 -> 117000 | J27: https://www.tokopedia.com/dreamtechno/power-supply-12v-40a-murni-barang-terjamin?extParam=ivf%3Dfalse&src=topads
F28: =H28*$I$2 -> 0 | G28: =F28*E28 -> 0 | I28: =H28*E28 -> 0
A29: F | B29: Neon Text "Sekolah Penggerak" | D29: pax | E29: 1 | F29: =sum(G30:G33) -> 1242732 | G29: =F29*E29 -> 1242732 | H29: =sum(I30:I33) -> 828488 | I29: =H29*E29 -> 828488
B30: neon flex | D30: pcs | E30: =(((104/2)*16)/100)/5 -> 1.664 | F30: =H30*$I$2 -> 100500 | G30: =F30*E30 -> 167232 | H30: 67000 | I30: =H30*E30 -> 111488 | J30: https://www.tokopedia.com/funminishop/lampu-neon-flex-selang-12v-dc-neonflex-12v-neonflexible-led-neonsign-warmwhite?extParam=ivf%3Dfalse&src=topads
B31: jasa potong akrilik | D31: cm2 | E31: =80*300 -> 24000 | F31: =H31*$I$2 -> 37.5 | G31: =F31*E31 -> 900000 | H31: 25 | I31: =H31*E31 -> 600000
B32: PSU 12 V | D32: pcs | E32: 1 | F32: =H32*$I$2 -> 175500 | G32: =F32*E32 -> 175500 | H32: 117000 | I32: =H32*E32 -> 117000 | J32: https://www.tokopedia.com/dreamtechno/power-supply-12v-40a-murni-barang-terjamin?extParam=ivf%3Dfalse&src=topads
F33: =H33*$I$2 -> 0 | G33: =F33*E33 -> 0 | I33: =H33*E33 -> 0
F34: =H34*$I$2 -> 0 | G34: =F34*E34 -> 0 | I34: =H34*E34 -> 0
F35: =H35*$I$2 -> 0 | G35: =F35*E35 -> 0 | I35: =H35*E35 -> 0
F36: =H36*$I$2 -> 0 | G36: =F36*E36 -> 0 | I36: =H36*E36 -> 0
F37: =H37*$I$2 -> 0 | G37: =F37*E37 -> 0 | I37: =H37*E37 -> 0
F38: =H38*$I$2 -> 0 | G38: =F38*E38 -> 0 | I38: =H38*E38 -> 0
F39: =H39*$I$2 -> 0 | G39: =F39*E39 -> 0 | I39: =H39*E39 -> 0
F40: =H40*$I$2 -> 0 | G40: =F40*E40 -> 0 | I40: =H40*E40 -> 0
F41: =H41*$I$2 -> 0 | G41: =F41*E41 -> 0 | I41: =H41*E41 -> 0
...

Sheet Actual RAB
A1: # | B1: Nama Barang | D1: Satuan | E1: Qty | F1: Harga Satuan | G1: Harga Total | H1: Harga Satuan [Private] | I1: Harga Total | J1: Informasi Toko atau Barang
I2: 2.5
B3: Alga Farm | E3: 1 | F3: =sum(G5:G965) -> 7616375 | G3: =E3*F3 -> 7616375 | I3: =SUM(I5:I43) -> 0
A4: A | B4: Tahap 1 | F4: =sum(G5:G43) -> 7616375
B6: mentari putri | D6: toko | E6: 1 | F6: 1458000 | G6: =E6*F6 -> 1458000
B7: Fani Aluminium Profile | D7: toko | E7: 1 | F7: =919600+367900 -> 1287500 | G7: =E7*F7 -> 1287500 | K7: https://drive.google.com/file/d/1I_rxOPki1wfIgF-MOjRPG3cpsuawYNoN/view?usp=drivesdk
B8: CENTI Store | D8: toko | E8: 1 | F8: 2238700 | G8: =E8*F8 -> 2238700 | K8: https://drive.google.com/file/d/1IbE9tzxZQBz5YcGqj67EfU9qH0HjoWx3/view?usp=drivesdk
B9: 3Din | D9: toko | E9: 1 | F9: =119500+146200 -> 265700 | G9: =E9*F9 -> 265700 | K9: https://drive.google.com/file/d/1Ni_BIrc4MdH-qJBwM0Cyk9pz9n4pvnTl/view?usp=drivesdk | L9: https://drive.google.com/file/d/1bf6lwAAW2Fec9JQ-WTHDw3TW4xuOAk01/view?usp=drivesdk
B10: Toko Hasil | D10: toko | E10: 1 | F10: =8000+5000+2500+15500 +9900+8500+3000+14000 -> 66400 | G10: =E10*F10 -> 66400 | K10: https://drive.google.com/file/d/1TjoUJo7eUA1iyog1gzZ5nUM2V0UsaylL/view?usp=drivesdk | L10: https://drive.google.com/file/d/1bAUEGxhbt0Yoz-uui91iYD43gRnRLkGy/view?usp=drivesdk | M10: https://drive.google.com/file/d/17yywVVlzjzFnyIIZNMOfahggIKSafhCw/view?usp=drivesdk
B11: Abadi Kaca | D11: toko | E11: 1 | F11: 75000 | G11: =E11*F11 -> 75000 | K11: https://drive.google.com/file/d/189qAi25sedV7ORAhXJQs5ZyL8Fy9tbfc/view?usp=drivesdk
B12: DIY | D12: toko | E12: 1 | F12: 20000 | G12: =E12*F12 -> 20000 | K12: https://drive.google.com/file/d/1bAUEGxhbt0Yoz-uui91iYD43gRnRLkGy/view?usp=drivesdk
B13: BB | D13: toko | E13: 1 | F13: 105000 | G13: =E13*F13 -> 105000 | K13: https://drive.google.com/file/d/1bAUEGxhbt0Yoz-uui91iYD43gRnRLkGy/view?usp=drivesdk
B14: spare part jakarta | D14: toko | E14: 1 | F14: 101500 | G14: =E14*F14 -> 101500 | K14: https://drive.google.com/file/d/1be3yEveQJDeOo-TWb9DcVPC38TWOyFgc/view?usp=drivesdk
B15: raja cell | D15: toko | E15: 1 | F15: 615000 | G15: =E15*F15 -> 615000 | K15: https://drive.google.com/drive/folders/1675LA5Lv3MeT3GqUqfeGf0osW4WPUOXj
B16: glodok | D16: toko | E16: 1 | F16: 238275 | G16: =E16*F16 -> 238275 | K16: https://drive.google.com/drive/folders/1675LA5Lv3MeT3GqUqfeGf0osW4WPUOXj
B17: anugrah | D17: toko | E17: 1 | F17: 220800 | G17: =E17*F17 -> 220800 | K17: https://drive.google.com/drive/folders/1675LA5Lv3MeT3GqUqfeGf0osW4WPUOXj
B18: delta | D18: toko | E18: 1 | F18: 95000 | G18: =E18*F18 -> 95000 | K18: https://drive.google.com/drive/folders/1675LA5Lv3MeT3GqUqfeGf0osW4WPUOXj
B19: hasil | D19: toko | E19: 1 | F19: 22500 | G19: =E19*F19 -> 22500 | K19: https://drive.google.com/drive/folders/1675LA5Lv3MeT3GqUqfeGf0osW4WPUOXjj
B20: digpart | D20: toko | E20: 1 | F20: 179000 | G20: =E20*F20 -> 179000 | K20: https://drive.google.com/drive/folders/1675LA5Lv3MeT3GqUqfeGf0osW4WPUOXj
B21: bangunan | D21: toko | E21: 1 | F21: 50000 | G21: =E21*F21 -> 50000 | K21: https://drive.google.com/drive/folders/1675LA5Lv3MeT3GqUqfeGf0osW4WPUOXj
B22: bb | D22: toko | E22: 1 | F22: 45000 | G22: =E22*F22 -> 45000 | K22: https://drive.google.com/drive/folders/1675LA5Lv3MeT3GqUqfeGf0osW4WPUOXj
... B25: delta | D25: toko | E25: 1 | F25: 65000 | G25: =E25*F25 -> 65000 | K25: https://drive.google.com/drive/folders/1675LA5Lv3MeT3GqUqfeGf0osW4WPUOXj
B26: hasil | D26: toko | E26: 1 | F26: =22500+9000 -> 31500 | G26: =E26*F26 -> 31500 | K26: https://drive.google.com/drive/folders/1675LA5Lv3MeT3GqUqfeGf0osW4WPUOXj
B27: digpart | D27: toko | E27: 1 | F27: 93000 | G27: =E27*F27 -> 93000 | K27: https://drive.google.com/drive/folders/1675LA5Lv3MeT3GqUqfeGf0osW4WPUOXj
